BEGIN:VCALENDAR
VERSION:2.0
PRODID:-//Jakobusfreunde Paderborn - ECPv6.15.20//NONSGML v1.0//EN
CALSCALE:GREGORIAN
METHOD:PUBLISH
X-WR-CALNAME:Jakobusfreunde Paderborn
X-ORIGINAL-URL:https://jakobusfreunde-paderborn.com
X-WR-CALDESC:Veranstaltungen für Jakobusfreunde Paderborn
REFRESH-INTERVAL;VALUE=DURATION:PT1H
X-Robots-Tag:noindex
X-PUBLISHED-TTL:PT1H
BEGIN:VTIMEZONE
TZID:Europe/Berlin
BEGIN:DAYLIGHT
TZOFFSETFROM:+0100
TZOFFSETTO:+0200
TZNAME:CEST
DTSTART:20240331T010000
END:DAYLIGHT
BEGIN:STANDARD
TZOFFSETFROM:+0200
TZOFFSETTO:+0100
TZNAME:CET
DTSTART:20241027T010000
END:STANDARD
BEGIN:DAYLIGHT
TZOFFSETFROM:+0100
TZOFFSETTO:+0200
TZNAME:CEST
DTSTART:20250330T010000
END:DAYLIGHT
BEGIN:STANDARD
TZOFFSETFROM:+0200
TZOFFSETTO:+0100
TZNAME:CET
DTSTART:20251026T010000
END:STANDARD
BEGIN:DAYLIGHT
TZOFFSETFROM:+0100
TZOFFSETTO:+0200
TZNAME:CEST
DTSTART:20260329T010000
END:DAYLIGHT
BEGIN:STANDARD
TZOFFSETFROM:+0200
TZOFFSETTO:+0100
TZNAME:CET
DTSTART:20261025T010000
END:STANDARD
END:VTIMEZONE
BEGIN:VEVENT
DTSTART;TZID=Europe/Berlin:20250831T103000
DTEND;TZID=Europe/Berlin:20250831T160000
DTSTAMP:20260424T150757
CREATED:20250616T090709Z
LAST-MODIFIED:20250811T104927Z
UID:35748-1756636200-1756656000@jakobusfreunde-paderborn.com
SUMMARY:Radpilgern am 31. August
DESCRIPTION:Liebe Radpilgerfreunde\, \n\n\nleider müssen wir die angekündigte Radpilgerfahrt auf der Friedensroute absagen\, weil wir zu wenige Anmeldungen erhalten haben. Das tut uns sehr leid. Nun haben wir uns kurzfristig ein alternatives Sonntagsradpilgerangebot überlegt\, dass unabhängig von der Teilnehmerzahl in jedem Fall durchgeführt werden kann. \n\n\nWir wollen den Delbrücker Kapellenweg radeln. Dieser Weg ist ca. 45 km lang und führt zu drei Kirchen und 10 Kapellen des Delbrücker Landes. Der Weg stellt außer etwas Ausdauer keine besonderen Ansprüche und kann auch mit Fahrrädern ohne Unterstützung gut gefahren werden.  \n\n\nTermin:        31.08.25 \n\n\nUhrzeit:        10:30 Uhr \n\n\nTreffpunkt:   Delbrück\, Parkplatz Am Wiemenkamp \n\n\nFür unterwegs bringt sich jeder Verpflegung und vor allem ausreichend zu trinken mit. Im Anschluss wollen wir im Café am Kirchplatz einkehren. Anmeldung wird erbeten unter Tel. 05251/5068677\, E-Mail: info@jakobusfreunde-paderborn.com \n\n\nEs freuen sich auf eine gemeinsame Radpilgerfahrt  \n\n\nMaria Diedrich und Josef Hõtte
URL:https://jakobusfreunde-paderborn.com/termin/radwallfahrt-am-30-u-31-august-2/
LOCATION:Delbrück\, Am Wiemenkamp\, Parkplatz\, Delbrück\, 33129\, Germany
CATEGORIES:Veranstaltung
ORGANIZER;CN="Jakobusfreunde Paderborn":MAILTO:info@jakobusfreunde-paderborn.com
END:VEVENT
END:VCALENDAR