BEGIN:VCALENDAR
VERSION:2.0
PRODID:-//Jakobusfreunde Paderborn - ECPv6.15.20//NONSGML v1.0//EN
CALSCALE:GREGORIAN
METHOD:PUBLISH
X-ORIGINAL-URL:https://jakobusfreunde-paderborn.com
X-WR-CALDESC:Veranstaltungen für Jakobusfreunde Paderborn
REFRESH-INTERVAL;VALUE=DURATION:PT1H
X-Robots-Tag:noindex
X-PUBLISHED-TTL:PT1H
BEGIN:VTIMEZONE
TZID:Europe/Berlin
BEGIN:DAYLIGHT
TZOFFSETFROM:+0100
TZOFFSETTO:+0200
TZNAME:CEST
DTSTART:20240331T010000
END:DAYLIGHT
BEGIN:STANDARD
TZOFFSETFROM:+0200
TZOFFSETTO:+0100
TZNAME:CET
DTSTART:20241027T010000
END:STANDARD
BEGIN:DAYLIGHT
TZOFFSETFROM:+0100
TZOFFSETTO:+0200
TZNAME:CEST
DTSTART:20250330T010000
END:DAYLIGHT
BEGIN:STANDARD
TZOFFSETFROM:+0200
TZOFFSETTO:+0100
TZNAME:CET
DTSTART:20251026T010000
END:STANDARD
BEGIN:DAYLIGHT
TZOFFSETFROM:+0100
TZOFFSETTO:+0200
TZNAME:CEST
DTSTART:20260329T010000
END:DAYLIGHT
BEGIN:STANDARD
TZOFFSETFROM:+0200
TZOFFSETTO:+0100
TZNAME:CET
DTSTART:20261025T010000
END:STANDARD
END:VTIMEZONE
BEGIN:VEVENT
DTSTART;TZID=Europe/Berlin:20250530T110000
DTEND;TZID=Europe/Berlin:20250601T170000
DTSTAMP:20260423T024842
CREATED:20241209T150335Z
LAST-MODIFIED:20250426T113412Z
UID:34994-1748602800-1748797200@jakobusfreunde-paderborn.com
SUMMARY:Von Dom zu Dom I
DESCRIPTION:Weiter nach Aachen \n– Gruppenpilgern von Köln nach Aachen – \nBitte\, nicht mehr anmelden\, da ausgebucht! \nNachdem wir in diesem Jahr den Kölner Dom erreicht haben\, bietet der Freundeskreis der Jakobuspilger wiederum ein Gruppenpilgern an\, das uns Santiago de Compostela ein Stück näher bringt. Auf vielfachen Wunsch wollen wir weiter von Köln aus nach Aachen pilgern. Wir werden an zwei Wochenenden unterwegs sein\, auf jeweils drei Etappen je zwei Übernachtungen. \nKölner Dom \nTour 1: Start am Freitag\, 30. Mai 2025\, um 11:00 Uhr am Kölner Dom\, etwa 16 km bis zum Abtei-Hotel in Brauweiler. \n2. Etappe: Samstag\, 31. Mai\, Beginn um 09.00 Uhr am o. a. Hotel\, knapp 22 km bis zum Hotel „Zur Wasserburg“ in Kerpen. \n3. Etappe: Sonntag\, 01. Juni\, Start um 09:00 Uhr am Hotel\, ca. 18 km bis Düren\, von dort aus individuelle Heimreise. \nDer Streckenverlauf ist abrufbar unter: Jakobsweg Köln-Aachen • Pilgerweg » outdooractive.com \nWeitere Informationen sowie die Anmeldeunterlagen sind hier abrufbar. Anmeldungen werden umgehend erbeten. \nEs wird darauf hingewiesen\, dass bei Stornierungen nach der verbindlichen Anmeldung Kosten anfallen können\, die sich nach den Bedingungen der jeweiligen Unterkünfte richten. Für die An- und Abreise ist jeder selbst verantwortlich. Falls jemand keine Unterkunft benötigt\, so ist das bei der Anmeldung mitzuteilen. Auch ist es möglich\, nur an der 1. oder der 2. Tour oder auch einzelnen Tagen an den jeweiligen Pilgerwanderungen teilzunehmen.
URL:https://jakobusfreunde-paderborn.com/termin/von-dom-zu-dom/
LOCATION:Kölner Dom\, Domkloster 4\, Köln\, 50667\, Germany
CATEGORIES:Pilgerwanderung
ORGANIZER;CN="Jakobusfreunde Paderborn":MAILTO:info@jakobusfreunde-paderborn.com
END:VEVENT
END:VCALENDAR