BEGIN:VCALENDAR
VERSION:2.0
PRODID:-//Jakobusfreunde Paderborn - ECPv6.15.20//NONSGML v1.0//EN
CALSCALE:GREGORIAN
METHOD:PUBLISH
X-ORIGINAL-URL:https://jakobusfreunde-paderborn.com
X-WR-CALDESC:Veranstaltungen für Jakobusfreunde Paderborn
REFRESH-INTERVAL;VALUE=DURATION:PT1H
X-Robots-Tag:noindex
X-PUBLISHED-TTL:PT1H
BEGIN:VTIMEZONE
TZID:Europe/Berlin
BEGIN:DAYLIGHT
TZOFFSETFROM:+0100
TZOFFSETTO:+0200
TZNAME:CEST
DTSTART:20200329T010000
END:DAYLIGHT
BEGIN:STANDARD
TZOFFSETFROM:+0200
TZOFFSETTO:+0100
TZNAME:CET
DTSTART:20201025T010000
END:STANDARD
BEGIN:DAYLIGHT
TZOFFSETFROM:+0100
TZOFFSETTO:+0200
TZNAME:CEST
DTSTART:20210328T010000
END:DAYLIGHT
BEGIN:STANDARD
TZOFFSETFROM:+0200
TZOFFSETTO:+0100
TZNAME:CET
DTSTART:20211031T010000
END:STANDARD
BEGIN:DAYLIGHT
TZOFFSETFROM:+0100
TZOFFSETTO:+0200
TZNAME:CEST
DTSTART:20220327T010000
END:DAYLIGHT
BEGIN:STANDARD
TZOFFSETFROM:+0200
TZOFFSETTO:+0100
TZNAME:CET
DTSTART:20221030T010000
END:STANDARD
END:VTIMEZONE
BEGIN:VEVENT
DTSTART;TZID=Europe/Berlin:20210926T120000
DTEND;TZID=Europe/Berlin:20211008T170000
DTSTAMP:20260424T004017
CREATED:20210526T102502Z
LAST-MODIFIED:20211018T175135Z
UID:26855-1632657600-1633712400@jakobusfreunde-paderborn.com
SUMMARY:Ans Ziel
DESCRIPTION:Pilgerreise von Sarría nach Santigao de Compostela und weiter bis ans Ende der Welt \nNachdem der letzte Abschnitt unserer Pilgerreise auf dem Camino Francés\, der eigentlich für den Herbst 2020 geplant war\, bereits zweimal verschoben werden musste\, hoffen wir nun endlich\,  Ende September mit unserem Flug ab Frankfurt starten zu können.  Über Sarría\, Porto Marin\, Palas de Rei\, Arzúa und Lavacolla geht es nach Santiago. Die nächsten Etappenorte sind Negreira\, Olveiroa und Cee\, bevor wir in Finisterre (am Ende der Welt) unsere große Pilgerfahrt beschließen wollen. \nDie Reise ist bereits ausgebucht\, da sie nur für Pilger vorgesehen ist\, die bereits die ersten drei Abschnitte mit unterwegs waren. Die Gruppe rekrutiert sich aus Teilnehmern des Adventspilgerns der Jahre 2016 und 2017\, die beschlossen hatten\, den Weg zu vollenden. \nEin besonderer Dank geht hier an die Organisatoren und Ausrichter Uli Kryn und Heinrich Spiegelmacher. \nDie Gruppe 2019 am Cruz de Ferro
URL:https://jakobusfreunde-paderborn.com/termin/ans-ziel/
LOCATION:Spanien\, Spanien
CATEGORIES:Veranstaltung
END:VEVENT
END:VCALENDAR