BEGIN:VCALENDAR
VERSION:2.0
PRODID:-//Jakobusfreunde Paderborn - ECPv6.15.20//NONSGML v1.0//EN
CALSCALE:GREGORIAN
METHOD:PUBLISH
X-ORIGINAL-URL:https://jakobusfreunde-paderborn.com
X-WR-CALDESC:Veranstaltungen für Jakobusfreunde Paderborn
REFRESH-INTERVAL;VALUE=DURATION:PT1H
X-Robots-Tag:noindex
X-PUBLISHED-TTL:PT1H
BEGIN:VTIMEZONE
TZID:Europe/Berlin
BEGIN:DAYLIGHT
TZOFFSETFROM:+0100
TZOFFSETTO:+0200
TZNAME:CEST
DTSTART:20200329T010000
END:DAYLIGHT
BEGIN:STANDARD
TZOFFSETFROM:+0200
TZOFFSETTO:+0100
TZNAME:CET
DTSTART:20201025T010000
END:STANDARD
BEGIN:DAYLIGHT
TZOFFSETFROM:+0100
TZOFFSETTO:+0200
TZNAME:CEST
DTSTART:20210328T010000
END:DAYLIGHT
BEGIN:STANDARD
TZOFFSETFROM:+0200
TZOFFSETTO:+0100
TZNAME:CET
DTSTART:20211031T010000
END:STANDARD
BEGIN:DAYLIGHT
TZOFFSETFROM:+0100
TZOFFSETTO:+0200
TZNAME:CEST
DTSTART:20220327T010000
END:DAYLIGHT
BEGIN:STANDARD
TZOFFSETFROM:+0200
TZOFFSETTO:+0100
TZNAME:CET
DTSTART:20221030T010000
END:STANDARD
END:VTIMEZONE
BEGIN:VEVENT
DTSTART;TZID=Europe/Berlin:20210912T110000
DTEND;TZID=Europe/Berlin:20210912T170000
DTSTAMP:20260424T061600
CREATED:20210907T200525Z
LAST-MODIFIED:20210908T170515Z
UID:27067-1631444400-1631466000@jakobusfreunde-paderborn.com
SUMMARY:Pilgern in Lippe
DESCRIPTION:Pilgern in Lippe: 12. September 2021\, von Detmold zur Kirche in Heiden\, ca. 10 km\nTreffpunkt: 11 Uhr Bahnhof Detmold \n \nvorbereitet von Marianne Pohl und Uschi Resak\, \nFührung in der romanischen Kirche in Lage-Heiden\nVerpflegung ist mitzubringen\, Rückfahrt per Bus möglich \nAnmeldung nicht erforderlich
URL:https://jakobusfreunde-paderborn.com/termin/12-9-2021-pilgern-in-lippe/
LOCATION:Bahnhof Detmold
CATEGORIES:Veranstaltung
ORGANIZER;CN="Jakobusfreunde Paderborn":MAILTO:info@jakobusfreunde-paderborn.com
END:VEVENT
END:VCALENDAR