BEGIN:VCALENDAR
VERSION:2.0
PRODID:-//Jakobusfreunde Paderborn - ECPv6.15.20//NONSGML v1.0//EN
CALSCALE:GREGORIAN
METHOD:PUBLISH
X-WR-CALNAME:Jakobusfreunde Paderborn
X-ORIGINAL-URL:https://jakobusfreunde-paderborn.com
X-WR-CALDESC:Veranstaltungen für Jakobusfreunde Paderborn
REFRESH-INTERVAL;VALUE=DURATION:PT1H
X-Robots-Tag:noindex
X-PUBLISHED-TTL:PT1H
BEGIN:VTIMEZONE
TZID:Europe/Berlin
BEGIN:DAYLIGHT
TZOFFSETFROM:+0100
TZOFFSETTO:+0200
TZNAME:CEST
DTSTART:20250330T010000
END:DAYLIGHT
BEGIN:STANDARD
TZOFFSETFROM:+0200
TZOFFSETTO:+0100
TZNAME:CET
DTSTART:20251026T010000
END:STANDARD
BEGIN:DAYLIGHT
TZOFFSETFROM:+0100
TZOFFSETTO:+0200
TZNAME:CEST
DTSTART:20260329T010000
END:DAYLIGHT
BEGIN:STANDARD
TZOFFSETFROM:+0200
TZOFFSETTO:+0100
TZNAME:CET
DTSTART:20261025T010000
END:STANDARD
BEGIN:DAYLIGHT
TZOFFSETFROM:+0100
TZOFFSETTO:+0200
TZNAME:CEST
DTSTART:20270328T010000
END:DAYLIGHT
BEGIN:STANDARD
TZOFFSETFROM:+0200
TZOFFSETTO:+0100
TZNAME:CET
DTSTART:20271031T010000
END:STANDARD
END:VTIMEZONE
BEGIN:VEVENT
DTSTART;TZID=Europe/Berlin:20260321T153000
DTEND;TZID=Europe/Berlin:20260321T173000
DTSTAMP:20260422T140452
CREATED:20260211T164603Z
LAST-MODIFIED:20260211T165500Z
UID:36103-1774107000-1774114200@jakobusfreunde-paderborn.com
SUMMARY:Mitgliederversammlung am 21.03.2026
DESCRIPTION:Einladung zur Mitgliedersammlung 2026\ndes Freundeskreises der Jakobuspilger -Hermandad Santiago- e.V. Paderborn \nLiebe Pilgerfreunde\, \nhiermit lädt der Vorstand herzlich zur Mitgliederversammlung ein zu Samstag\, 21. März um 15:30 Uhr im Pfarrheim St. Georg\, Neuhäuser Str. 78\, Paderborn. \nVorgesehene Tagesordnung: \nTOP 1: Begrüßung und Beschlussfähigkeit\nTOP 2: Totengedenken\nTOP 3: Bericht des Vorstands incl. Kassenbericht zum Geschäftsjahr 2025\nTOP 4: Bericht der Kassenprüfer\nTOP 5: Entlastung des Vorstands\nTOP 6: Ehrung von langjährigen Mitgliedern\nTOP 7: Satzungsänderung § 13\, neuer Vermögensempfänger soll der VJD werden\nTOP 8: Wahlen: Präsident/in\, Schatzmeister/in\, Beisitzer/in\, Kassenprüfer/in\nTOP 9: Jahresprogramm 2026\nTOP 10: Verschiedenes \nJedes Mitglied kann bis spätestens eine Woche vor dem Tag der Mitgliederversammlung beim Vorstand schriftlich beantragen\, dass weitere Angelegenheiten nachträglich auf die Tagesordnung gesetzt werden. Der Versammlungsleiter hat sodann zu Beginn der Versammlung die Tagesordnung entsprechend zu ergänzen. Über Anträge zur Tagesordnung\, die erst in der Mitgliederversammlung gestellt werden\, beschließt die Versammlung. \nFür den Vorstand:\nHeino v. Groote\, Präsident
URL:https://jakobusfreunde-paderborn.com/termin/mitgliederversammlung-am-21-03-2026/
LOCATION:Pfarrheim Georgskirche\, Neuhäuser Straße 78a\, Paderborn\, 33102\, Germany
CATEGORIES:Veranstaltung
ORGANIZER;CN="Jakobusfreunde Paderborn":MAILTO:info@jakobusfreunde-paderborn.com
END:VEVENT
END:VCALENDAR