BEGIN:VCALENDAR
VERSION:2.0
PRODID:-//Jakobusfreunde Paderborn - ECPv6.15.20//NONSGML v1.0//EN
CALSCALE:GREGORIAN
METHOD:PUBLISH
X-WR-CALNAME:Jakobusfreunde Paderborn
X-ORIGINAL-URL:https://jakobusfreunde-paderborn.com
X-WR-CALDESC:Veranstaltungen für Jakobusfreunde Paderborn
REFRESH-INTERVAL;VALUE=DURATION:PT1H
X-Robots-Tag:noindex
X-PUBLISHED-TTL:PT1H
BEGIN:VTIMEZONE
TZID:Europe/Berlin
BEGIN:DAYLIGHT
TZOFFSETFROM:+0100
TZOFFSETTO:+0200
TZNAME:CEST
DTSTART:20250330T010000
END:DAYLIGHT
BEGIN:STANDARD
TZOFFSETFROM:+0200
TZOFFSETTO:+0100
TZNAME:CET
DTSTART:20251026T010000
END:STANDARD
BEGIN:DAYLIGHT
TZOFFSETFROM:+0100
TZOFFSETTO:+0200
TZNAME:CEST
DTSTART:20260329T010000
END:DAYLIGHT
BEGIN:STANDARD
TZOFFSETFROM:+0200
TZOFFSETTO:+0100
TZNAME:CET
DTSTART:20261025T010000
END:STANDARD
BEGIN:DAYLIGHT
TZOFFSETFROM:+0100
TZOFFSETTO:+0200
TZNAME:CEST
DTSTART:20270328T010000
END:DAYLIGHT
BEGIN:STANDARD
TZOFFSETFROM:+0200
TZOFFSETTO:+0100
TZNAME:CET
DTSTART:20271031T010000
END:STANDARD
END:VTIMEZONE
BEGIN:VEVENT
DTSTART;TZID=Europe/Berlin:20260910T160000
DTEND;TZID=Europe/Berlin:20260913T170000
DTSTAMP:20260422T111905
CREATED:20260106T113421Z
LAST-MODIFIED:20260403T114537Z
UID:36002-1789056000-1789318800@jakobusfreunde-paderborn.com
SUMMARY:Pilgern von Soest nach Dortmund
DESCRIPTION:Pilgern durch die Soester Börde zur Reinoldikirche in Dortmund mit Uli Kryn \nNähere Einzelheiten sowie die Anmeldung sind hier abrufbar.
URL:https://jakobusfreunde-paderborn.com/termin/pilgern-von-soest-nach-dortmund-2/
LOCATION:Pilgerkloster Werl\, Walburgisstraße 41\, Werl\, 59457\, Germany
CATEGORIES:Pilgerwanderung
ORGANIZER;CN="Jakobusfreunde Paderborn":MAILTO:info@jakobusfreunde-paderborn.com
END:VEVENT
BEGIN:VEVENT
DTSTART;TZID=Europe/Berlin:20260921T070000
DTEND;TZID=Europe/Berlin:20261002T170000
DTSTAMP:20260422T111905
CREATED:20260112T103521Z
LAST-MODIFIED:20260317T125210Z
UID:36022-1789974000-1790960400@jakobusfreunde-paderborn.com
SUMMARY:Pilgerreise Camino Francés
DESCRIPTION:Details sind hier abrufbar! Liebe Pilgerfreunde\, leider könnt Ihr Euch nicht mehr anmelden\, da die Reise ausgebucht ist. \n 
URL:https://jakobusfreunde-paderborn.com/termin/pilgerreise-camino-frances/
LOCATION:Flughafen Düsseldorf\, Flughafenstraße 105\, Düsseldorf\, 40474\, Germany
CATEGORIES:Pilgerreise
ORGANIZER;CN="Jakobusfreunde Paderborn":MAILTO:info@jakobusfreunde-paderborn.com
END:VEVENT
END:VCALENDAR