BEGIN:VCALENDAR
VERSION:2.0
PRODID:-//Jakobusfreunde Paderborn - ECPv6.15.20//NONSGML v1.0//EN
CALSCALE:GREGORIAN
METHOD:PUBLISH
X-WR-CALNAME:Jakobusfreunde Paderborn
X-ORIGINAL-URL:https://jakobusfreunde-paderborn.com
X-WR-CALDESC:Veranstaltungen für Jakobusfreunde Paderborn
REFRESH-INTERVAL;VALUE=DURATION:PT1H
X-Robots-Tag:noindex
X-PUBLISHED-TTL:PT1H
BEGIN:VTIMEZONE
TZID:Europe/Berlin
BEGIN:DAYLIGHT
TZOFFSETFROM:+0100
TZOFFSETTO:+0200
TZNAME:CEST
DTSTART:20240331T010000
END:DAYLIGHT
BEGIN:STANDARD
TZOFFSETFROM:+0200
TZOFFSETTO:+0100
TZNAME:CET
DTSTART:20241027T010000
END:STANDARD
BEGIN:DAYLIGHT
TZOFFSETFROM:+0100
TZOFFSETTO:+0200
TZNAME:CEST
DTSTART:20250330T010000
END:DAYLIGHT
BEGIN:STANDARD
TZOFFSETFROM:+0200
TZOFFSETTO:+0100
TZNAME:CET
DTSTART:20251026T010000
END:STANDARD
BEGIN:DAYLIGHT
TZOFFSETFROM:+0100
TZOFFSETTO:+0200
TZNAME:CEST
DTSTART:20260329T010000
END:DAYLIGHT
BEGIN:STANDARD
TZOFFSETFROM:+0200
TZOFFSETTO:+0100
TZNAME:CET
DTSTART:20261025T010000
END:STANDARD
END:VTIMEZONE
BEGIN:VEVENT
DTSTART;TZID=Europe/Berlin:20251122T110000
DTEND;TZID=Europe/Berlin:20251122T210000
DTSTAMP:20260423T103910
CREATED:20251014T090404Z
LAST-MODIFIED:20251014T091007Z
UID:35917-1763809200-1763845200@jakobusfreunde-paderborn.com
SUMMARY:Herbsttreffen am 22.11.2025
DESCRIPTION:EINLADUNG zu unserem diesjähriges Herbsttreffen vom 22.-23.11.2025 im Pfarrheim der Georgskirche Paderborn\, Neuhäuser Straße 78a. \nProgramm Samstag 22.11.2025 \n11.00 – 16.00 Uhr             Hospitalero-Treffen \n16.00 – 18.00 Uhr             PILGER CAFÈ mit Beratung und Austausch für Gäste\,                                                                Interessierte und Hospitaleras/os \n18.00 – 18.30 Uhr             Gottesdienst \nAnschließend                    Spanischer Abend \n                                               (Essen und Getränke gegen Kostenbeitrag) \nParkmöglichkeiten in der Hans-Humpert-Straße\, Bushaltestelle „Elsener Straße“\, Linien 1\, 5\, S40\, R41 vom Hauptbahnhof bzw. Westerntor. Zu Fuß vom Hauptbahnhof 1\,4 km über die Rathenaustraße. \nÜbernachtungsmöglichkeiten in der Nähe:\nIbis Hotel am Paderwall/Neuhäuser Str. Tel. 05251 1 24 5\,  ca. 750 m vom Pfarrheim St. Georg\nEinzelzimmer  64\,00 € mit Frühstück 81\,00 €\, Doppelzimmer 73\,00 €\, mit Frühstück 108\,00 € Welcmome Hotel\, Fürstenweg 13\, Tel. 05251 2880-0\, ca. 400 m vom Pfarrheim St. Georg\nEinzelzimmer 90\,00 €\, mit Frühstück 100\,00 €\, Doppelzimmer 107\,00 €\, mit Frühstück 128\,00 €
URL:https://jakobusfreunde-paderborn.com/termin/herbsttreffen-am-22-11-2025/
LOCATION:Pfarrheim Georgskirche\, Neuhäuser Straße 78a\, Paderborn\, 33102\, Germany
CATEGORIES:Pilgerstammtisch,Veranstaltung
ORGANIZER;CN="Jakobusfreunde Paderborn":MAILTO:info@jakobusfreunde-paderborn.com
END:VEVENT
BEGIN:VEVENT
DTSTART;TZID=Europe/Berlin:20251123T100000
DTEND;TZID=Europe/Berlin:20251123T140000
DTSTAMP:20260423T103910
CREATED:20251014T090805Z
LAST-MODIFIED:20251014T090806Z
UID:35920-1763892000-1763906400@jakobusfreunde-paderborn.com
SUMMARY:Herbsttreffen am 23.11.2025
DESCRIPTION:Programm Sonntag 23.11.2025 \n10.00 Uhr                           Hochamt im DOM Paderborn \n11.00 Uhr                           Da wir im Frühjahr dem Dom auf’s Dach gestiegen sind\, gehen wir                                            dieses Mal in den Keller (nur für Vereinsmitglieder!) \nAnschließend Möglichkeit zum gemeinsamen Mittagessen.
URL:https://jakobusfreunde-paderborn.com/termin/herbsttreffen-am-23-11-2025/
LOCATION:Paderborn Dom\, Domplatz\, Paderborn\, 33098
CATEGORIES:Veranstaltung
ORGANIZER;CN="Jakobusfreunde Paderborn":MAILTO:info@jakobusfreunde-paderborn.com
END:VEVENT
END:VCALENDAR