BEGIN:VCALENDAR
VERSION:2.0
PRODID:-//Jakobusfreunde Paderborn - ECPv6.15.20//NONSGML v1.0//EN
CALSCALE:GREGORIAN
METHOD:PUBLISH
X-WR-CALNAME:Jakobusfreunde Paderborn
X-ORIGINAL-URL:https://jakobusfreunde-paderborn.com
X-WR-CALDESC:Veranstaltungen für Jakobusfreunde Paderborn
REFRESH-INTERVAL;VALUE=DURATION:PT1H
X-Robots-Tag:noindex
X-PUBLISHED-TTL:PT1H
BEGIN:VTIMEZONE
TZID:Europe/Berlin
BEGIN:DAYLIGHT
TZOFFSETFROM:+0100
TZOFFSETTO:+0200
TZNAME:CEST
DTSTART:20230326T010000
END:DAYLIGHT
BEGIN:STANDARD
TZOFFSETFROM:+0200
TZOFFSETTO:+0100
TZNAME:CET
DTSTART:20231029T010000
END:STANDARD
BEGIN:DAYLIGHT
TZOFFSETFROM:+0100
TZOFFSETTO:+0200
TZNAME:CEST
DTSTART:20240331T010000
END:DAYLIGHT
BEGIN:STANDARD
TZOFFSETFROM:+0200
TZOFFSETTO:+0100
TZNAME:CET
DTSTART:20241027T010000
END:STANDARD
BEGIN:DAYLIGHT
TZOFFSETFROM:+0100
TZOFFSETTO:+0200
TZNAME:CEST
DTSTART:20250330T010000
END:DAYLIGHT
BEGIN:STANDARD
TZOFFSETFROM:+0200
TZOFFSETTO:+0100
TZNAME:CET
DTSTART:20251026T010000
END:STANDARD
END:VTIMEZONE
BEGIN:VEVENT
DTSTART;TZID=Europe/Berlin:20240202T180000
DTEND;TZID=Europe/Berlin:20240202T210000
DTSTAMP:20260421T200408
CREATED:20240117T224858Z
LAST-MODIFIED:20240117T224858Z
UID:33858-1706896800-1706907600@jakobusfreunde-paderborn.com
SUMMARY:Pilgertreffen am 2. Februar
DESCRIPTION:„Wenn man nur ankommen will\, kann man mit der Post fahren\, wenn man aber reisen will\, muss man zu Fuß gehen.“      Jean-Jacques Rousseau \nIn wenigen Wochen soll es bei uns in Bielefeld wieder losgehen. Herzlich möchte ich einladen zu unserem Pilgertreffen am Freitag\, dem 2. Februar 2024 im Franziskussaal (Gemeinde St. Jodokus) am Klosterplatz in Bielefeld. Wir treffen uns dort ab 19.15 Uhr. Vorher lädt uns Norbert Glatthor vom Citykloster  wieder um 18.00 Uhr zu einem verkürzten Feierabendpilgern ein. Treffpunkt ist vor der Kirche St. Jodokus. Wir freuen uns auf euer kommen. \nBeim Pilgertreffen geht es wie immer um Begegnung\, neue Pilger kennenlernen\, Freunde treffen\, sich verabreden. Außerdem sollen Planungen für das neue Jahr besprochen werden\, was interessiert uns vor Ort\, welche Angebote gibt es bei den Jakobusfreunden? In der Winterzeit habe ich mich mit dem Pilgerleben im Mittelalter beschäftigt. Darüber möchte ich kurz berichten. Wer hat noch interessante Pilgerliteratur gefunden? Berichtet darüber! Kennt ihr die Pilgerbücherei in der Geschäftsstelle in Paderborn? Ich glaube\, dass uns die Themen beim Treffen nicht ausgehen werden. \nIn diesem Sinne freue ich mich wieder auf unser Treffen und verbleibe mit freundlichen Grüßen\, buen camino \neuer Heinz Volke
URL:https://jakobusfreunde-paderborn.com/termin/pilgertreffen-am-2-februar/
LOCATION:Citykloster\, Klosterplatz 10\, Bielefeld\, NRW\, 33602\, Deutschland
CATEGORIES:Pilgerstammtisch
END:VEVENT
BEGIN:VEVENT
DTSTART;TZID=Europe/Berlin:20240203T110000
DTEND;TZID=Europe/Berlin:20240203T150000
DTSTAMP:20260421T200408
CREATED:20240117T224024Z
LAST-MODIFIED:20240117T224234Z
UID:33847-1706958000-1706972400@jakobusfreunde-paderborn.com
SUMMARY:Pilgerwanderung am 3. Februar
DESCRIPTION:
URL:https://jakobusfreunde-paderborn.com/termin/pilerwanderung-am-3-februar/
LOCATION:Parkplatz Stadthalle\, Paul-Falke-Platz 6\, Schmallenberg\, NRW\, 57392\, Deutschland
CATEGORIES:Pilgerstammtisch,Veranstaltung
ORGANIZER;CN="Pilgerstammtisch Rothaargebirge":MAILTO:kirsten.henken@chemindecompostelle.de
END:VEVENT
END:VCALENDAR