BEGIN:VCALENDAR
VERSION:2.0
PRODID:-//Jakobusfreunde Paderborn - ECPv6.15.20//NONSGML v1.0//EN
CALSCALE:GREGORIAN
METHOD:PUBLISH
X-ORIGINAL-URL:https://jakobusfreunde-paderborn.com
X-WR-CALDESC:Veranstaltungen für Jakobusfreunde Paderborn
REFRESH-INTERVAL;VALUE=DURATION:PT1H
X-Robots-Tag:noindex
X-PUBLISHED-TTL:PT1H
BEGIN:VTIMEZONE
TZID:Europe/Berlin
BEGIN:DAYLIGHT
TZOFFSETFROM:+0100
TZOFFSETTO:+0200
TZNAME:CEST
DTSTART:20220327T010000
END:DAYLIGHT
BEGIN:STANDARD
TZOFFSETFROM:+0200
TZOFFSETTO:+0100
TZNAME:CET
DTSTART:20221030T010000
END:STANDARD
BEGIN:DAYLIGHT
TZOFFSETFROM:+0100
TZOFFSETTO:+0200
TZNAME:CEST
DTSTART:20230326T010000
END:DAYLIGHT
BEGIN:STANDARD
TZOFFSETFROM:+0200
TZOFFSETTO:+0100
TZNAME:CET
DTSTART:20231029T010000
END:STANDARD
BEGIN:DAYLIGHT
TZOFFSETFROM:+0100
TZOFFSETTO:+0200
TZNAME:CEST
DTSTART:20240331T010000
END:DAYLIGHT
BEGIN:STANDARD
TZOFFSETFROM:+0200
TZOFFSETTO:+0100
TZNAME:CET
DTSTART:20241027T010000
END:STANDARD
END:VTIMEZONE
BEGIN:VEVENT
DTSTART;VALUE=DATE:20231013
DTEND;VALUE=DATE:20231015
DTSTAMP:20260422T022735
CREATED:20230108T093058Z
LAST-MODIFIED:20230926T105500Z
UID:28634-1697155200-1697327999@jakobusfreunde-paderborn.com
SUMMARY:Findet leider nicht statt -> Ankommen- was bleibt nach dem Pilgern?
DESCRIPTION:Leider findet diese Veranstaltung nicht statt. \n  \nAngekommen!? – Was bleibt nach dem Pilgern? Wir machen uns viele Gedanken\, wenn wir zu einer Pilgertour aufbrechen. Alles wird genau geplant\, bevor wir uns mit Elan und Hoffnung auf den Weg machen. Unterwegs sind wir offen für all das Neue\, das uns begegnet. Aber was geschieht nach der Rückkehr? Wie sieht es ein paar Wochen oder Monate später aus? Haben die Erfahrungen unterwegs uns verändert\, ist etwas davon nachhaltig in den Alltag eingedrungen? Wir nehmen uns Zeit für die persönliche Reflexion und den Austausch über die Pilgererfahrungen und lernen Methoden der Reflexion kennen. Elemente: Impulse aus der Bibel und der spirituellen Tradition\, persönliche Besinnungszeiten\, Austauschrunden. \nVeranstaltung in Kooperation mit dem Exerzitien- und Bildungshaus Maria Immaculata \nBeginn: am 13.10 um 10.00 Uhr\nEnde: 14.10. um 13.00 Uhr \nKurskosten: 155\,00 € gesamt\nLeitung: Schwester Clara Schmiegel SCC;\nAnmeldung unter       https://haus-maria-immaculata.de
URL:https://jakobusfreunde-paderborn.com/termin/ankommen-was-bleibt-nach-dem-pilgern/
LOCATION:Exerzitien- und Bildungshaus Maria Immaculata\, Mallinckrodtstraße 1\, Paderborn\, NRW\, 33098\, Deutschland
CATEGORIES:Veranstaltung
END:VEVENT
BEGIN:VEVENT
DTSTART;VALUE=DATE:20231017
DTEND;VALUE=DATE:20231028
DTSTAMP:20260422T022735
CREATED:20230104T190830Z
LAST-MODIFIED:20230106T204551Z
UID:28590-1697500800-1698451199@jakobusfreunde-paderborn.com
SUMMARY:Pilgern im Herbst auf dem Jakobsweg
DESCRIPTION:Seit 2016 führten wir diese äußerst beliebte Pilgerreise in der Adventszeit durch.\n2023 bieten wir eine Neuauflage von Roncesvalles (Navarra) bis Santo Domingo de la Calzada (La Rioja) zur Herbstjahreszeit an. \n– 8 Etappen auf dem Camino Francés – \n(voraussichtlich) Di.\, 17. Oktober 2023 – Fr.\, 27. Oktober 2023* \nUnsere Pilgerwanderung im Norden Spaniens. Sie beginnt in Roncesvalles in der Nähe der französischen Grenze in etwa 950 m in den Pyrenäen. Wir durchlaufen die autonomen Regionen Navarra und La Rioja auf den Spuren der Jakobuspilger\, die seit Jahrhunderten dem Weg zum Grab des Apostels in Santiago de Compostela folgen. \nmit Pilgerführer Ulrich Kryn \nWir beginnen unsere Reise in Roncesvalles und nach zwei Pilgeretappen erreichen wir Pamplona und ziehen in unsere Pilgerherberge „Casa Paderborn“ ein\, wo wir eine Pause einlegen\, um am nächsten Tag die Stadt Pamplona\, in Begleitung der Jakobusfreunde von Navarra\, zu erkunden\, bevor uns unsere Reise zu Fuß in sechs weiteren Etappen nach Sto. Domingo de la Calzada weiter führt. Nach einer Übernachtung beenden wir dort am 11. Tag unsere Pilgerreise und fahren von dort zum Abflugflughafen zurück. \n\nGruppentransfer vom Ankunftsflughafen zur Pilgerherberge in Roncesvalles\n10 Übernachtungen (teilweise mit Frühstück) überwiegend in Pilgerherbergen (Mehrbettzimmer)\nGruppentransfer von Sto. Domingo de la Calzada zum Abflug-Flughafen\nBetreuung und Begleitung durch unseren erfahrenen Pilgerführer Uli\nJe Teilnehmer: 1 Pilgerausweis\, 1 Jakobsmuschel\, 1 T-Shirt mit Aufdruck\nBeratung bei Anreise und ggf. Vermittlung zum Flugbuchungsservice (siehe gesonderte Information)\n\nsind im Reisepreis von 370\,00 € für Mitglieder und 405\,00 € für Nichtmitglieder in deutschen Jakobusvereinen enthalten. \nIm Reisepreis nicht enthalten sind: Flüge ggf. Flugbuchungsgebühren • Mahlzeiten während der Reise • Eintritts- und Trinkgelder • Gepäcktransportservice \n*Die Reisedaten können aufgrund aktueller Flugpläne abweichen \nFlyer mit weiteren Informationen
URL:https://jakobusfreunde-paderborn.com/termin/pilgern-im-herbst-auf-dem-jakobsweg/
CATEGORIES:Pilgerreise
ORGANIZER;CN="Jakobusfreunde Paderborn":MAILTO:info@jakobusfreunde-paderborn.com
END:VEVENT
BEGIN:VEVENT
DTSTART;TZID=Europe/Berlin:20231017T080000
DTEND;TZID=Europe/Berlin:20231027T170000
DTSTAMP:20260422T022735
CREATED:20230205T104933Z
LAST-MODIFIED:20230205T104933Z
UID:28734-1697529600-1698426000@jakobusfreunde-paderborn.com
SUMMARY:Buen Camino – Der Weg ist unser Ziel
DESCRIPTION:vom 17.- bis zum 27. Oktober 2023\nmit Pilgerführerin Adriana González \nLiebe ehemalige AdventspilgerInnen\, \nauf euren Wunsch hin setzen wir unseren gemeinsamen Pilgerweg nach Santiago de Compostela gerne fort; wir starten die erste von drei Fortsetzungsreisen am 17.10.2023. Vom Ankunft-Flughafen aus fahren wir mit dem Bus nach Santo Domingo de la Calzada und nach einer dortigen Übernachtung beginnen wir am 18.10.2023 unsere Reise rund 195 km zu Fuß bis nach Sahagún (die offizielle Mitte vom Camino Francés). Von dort aus fahren wir mit dem Bus zum Abflug-Flughafen\, wo wir am 27.10.2023 unsere Pilgerreise beenden. \nLeider ist diese Pilgerreise bereits ausgebucht.
URL:https://jakobusfreunde-paderborn.com/termin/buen-camino-der-weg-ist-unser-ziel/
CATEGORIES:Pilgerreise
ORGANIZER;CN="Jakobusfreunde Paderborn":MAILTO:info@jakobusfreunde-paderborn.com
END:VEVENT
BEGIN:VEVENT
DTSTART;VALUE=DATE:20231030
DTEND;VALUE=DATE:20231101
DTSTAMP:20260422T022735
CREATED:20230108T195016Z
LAST-MODIFIED:20230720T193446Z
UID:28637-1698624000-1698796799@jakobusfreunde-paderborn.com
SUMMARY:„Gastfreundschaft“ - Ein Einkehrtag für Hospitaleros
DESCRIPTION:Gastfreundschaft – Reflexionstage für „Herbergsgebende“ und Hospitaleros\n„…. denn durch sie haben einige\, ohne es zu ahnen\, Engel beherbergt.“ (Heb 13\,2)\nEs ist eine besondere Erfahrung als Gastgeber auf dem Jakobsweg Pilger zu beherbergen. Dieser Reflexionstag ist eine Einladung für die Hospitaleros der Casa Paderborn in Pamplona\, die in den letzten Jahren dort einige Zeit verbracht haben. Wir möchten über unterschiedliche Begegnungen und persönliche Erlebnisse ins Gespräch kommen. Elemente: Impulse\, Austauschrunden\, persönliche Besinnungszeit \nVeranstaltung in Kooperation mit dem Exerzitien- und Bildungshaus Maria Immaculata \nBeginn: 30.10. um 10.00 Uhr\nEnde: 31.10. um 13.00 Uhr \nKurskosten: 155\,00 € gesamt ;\nLeitung: Schwester Clara Schmiegel SCC\nAnmeldung unter www.haus-maria-immaculata.de
URL:https://jakobusfreunde-paderborn.com/termin/gastfreundschaft-ein-einkehrtag-fuer-hospitaleros/
LOCATION:Exerzitien- und Bildungshaus Maria Immaculata\, Mallinckrodtstraße 1\, Paderborn\, NRW\, 33098\, Deutschland
CATEGORIES:Veranstaltung
END:VEVENT
END:VCALENDAR