BEGIN:VCALENDAR
VERSION:2.0
PRODID:-//Jakobusfreunde Paderborn - ECPv6.15.20//NONSGML v1.0//EN
CALSCALE:GREGORIAN
METHOD:PUBLISH
X-WR-CALNAME:Jakobusfreunde Paderborn
X-ORIGINAL-URL:https://jakobusfreunde-paderborn.com
X-WR-CALDESC:Veranstaltungen für Jakobusfreunde Paderborn
REFRESH-INTERVAL;VALUE=DURATION:PT1H
X-Robots-Tag:noindex
X-PUBLISHED-TTL:PT1H
BEGIN:VTIMEZONE
TZID:Europe/Berlin
BEGIN:DAYLIGHT
TZOFFSETFROM:+0100
TZOFFSETTO:+0200
TZNAME:CEST
DTSTART:20220327T010000
END:DAYLIGHT
BEGIN:STANDARD
TZOFFSETFROM:+0200
TZOFFSETTO:+0100
TZNAME:CET
DTSTART:20221030T010000
END:STANDARD
BEGIN:DAYLIGHT
TZOFFSETFROM:+0100
TZOFFSETTO:+0200
TZNAME:CEST
DTSTART:20230326T010000
END:DAYLIGHT
BEGIN:STANDARD
TZOFFSETFROM:+0200
TZOFFSETTO:+0100
TZNAME:CET
DTSTART:20231029T010000
END:STANDARD
BEGIN:DAYLIGHT
TZOFFSETFROM:+0100
TZOFFSETTO:+0200
TZNAME:CEST
DTSTART:20240331T010000
END:DAYLIGHT
BEGIN:STANDARD
TZOFFSETFROM:+0200
TZOFFSETTO:+0100
TZNAME:CET
DTSTART:20241027T010000
END:STANDARD
END:VTIMEZONE
BEGIN:VEVENT
DTSTART;VALUE=DATE:20230916
DTEND;VALUE=DATE:20230917
DTSTAMP:20260422T040919
CREATED:20230108T092857Z
LAST-MODIFIED:20230108T092857Z
UID:28630-1694822400-1694908799@jakobusfreunde-paderborn.com
SUMMARY:Tagespilgerwanderung Alter Pilgerweg\, Haxter Grund
DESCRIPTION:Tagespilgerwanderung gemeinsam mit den irischen Pilgerfreunden\, Alter Pilgerweg\, Haxter Grund
URL:https://jakobusfreunde-paderborn.com/termin/tagespilgerwanderung-alter-pilgerweg-haxter-grund/
END:VEVENT
BEGIN:VEVENT
DTSTART;TZID=Europe/Berlin:20230916T094500
DTEND;TZID=Europe/Berlin:20230916T190000
DTSTAMP:20260422T040919
CREATED:20230814T181318Z
LAST-MODIFIED:20230815T113145Z
UID:31400-1694857500-1694890800@jakobusfreunde-paderborn.com
SUMMARY:Pilgern mit unseren irischen Pilgerfreunden auf dem „Alten Pilgerweg“
DESCRIPTION:Am Samstag\, 16. September wollen wir auf den „Alten Pilgerweg“ unter die Füße nehmen.  \nTreffpunkt 9:45 Uhr am Parkplatz im Haxtergrund. \nDrei oder vier Freunde von der irischen Pilgergesellschaft (Camino Society of Ireland CLG) wollen dabei sein.\nStrecke: 11 km Rundweg bis zum Treffpunkt zurück; wer möchte\, kann dann noch mit zum Paderborner Dom weiterlaufen; insgesamt 18 km. \nUm 15:15 Uhr gibt es eine Führung im Paderborner Dom durch Frau Dr. Ohm. Anschließend Pilgersegen. \nDer Tag kann beendet werden mit einem gemeinsamen Abendessen um 19 Uhr im Brauhaus. \nOrganisatorisches: \nFestes Schuhwerk und ggf. Regenkleidung notwendig. Bitte Verpflegung für den Tag selbst mitbringen.\nLeider gibt es um diese Zeit keine ÖPNV-Anbindung. Daher sollten für die Anfahrt Fahrgemeinschaften gebildet werden; wer eine Fahrt anbietet oder mitfahren möchte\, melde sich einfach im Pilgerbüro: Tel.  PB 506 8677 mo.-do. vormittags oder Mail info@jakobusfreunde-paderborn.com.\nFür die Reservierung eines Tisches im Brauhaus brauchen wir ebenfalls die ungefähre Teilnehmerzahl; deshalb bitten wir um Anmeldung mit Personenzahl zum Abendessen\, das auf eigene Kosten eingenommen wird.
URL:https://jakobusfreunde-paderborn.com/termin/pilgern-mit-unseren-irischen-pilgerfreunden-auf-dem-alten-pilgerweg/
LOCATION:Haxtergrund\, Haxtergrund 18\, Paderborn\, 33100\, Deutschland
CATEGORIES:Pilgerreise,Veranstaltung
ORGANIZER;CN="Jakobusfreunde Paderborn":MAILTO:info@jakobusfreunde-paderborn.com
END:VEVENT
BEGIN:VEVENT
DTSTART;TZID=Europe/Berlin:20230916T100000
DTEND;TZID=Europe/Berlin:20230916T170000
DTSTAMP:20260422T040919
CREATED:20230821T161504Z
LAST-MODIFIED:20230821T162836Z
UID:31476-1694858400-1694883600@jakobusfreunde-paderborn.com
SUMMARY:Pilgerwanderung vom Kloster Dalheim zum Kloster Obermarsberg
DESCRIPTION:Es handelt sich um die Etappe vom Kloster Dalheim nach Obermarsberg über 20\,6 km des Jakobsweges Paderborn –  Elspe. Informationen zum Weg sind unter diesem Link abrufbar. Gestartet wird am Parkplatz des Klosters\, Am Kloster 9\, 33165 Lichtenau. Ziel ist das Stift in Obermarsberg\, Am Stift 17\, 34431 Marsberg. \nIn Obermarsberg besteht Gelegenheit zur Einkehr in eine Gaststätte. Bitte\, bei der Anmeldung angeben\, die unbedingt erforderlich ist beim Stadtmarketing Marsberg bis zum 08.09.2023: info@tourismus-marsberg.de oder Tel. 02992 3388. Rücktransport zum Kloster Dalheim ist für vier Pkw-Fahrer möglich. Wanderführer: Karl-Rudolf Böttcher. \n  \n 
URL:https://jakobusfreunde-paderborn.com/termin/pilgerwanderung-vom-kloster-dalheim-zum-kloster-obermarsberg/
LOCATION:Kloster Dalheim\, Am Kloster 9\, Lichtenau\, 33165\, Deutschland
CATEGORIES:Veranstaltung
ORGANIZER;CN="Stadtmarketing Marsberg":MAILTO:info@stadtmarketing-marsberg.de
END:VEVENT
END:VCALENDAR