BEGIN:VCALENDAR
VERSION:2.0
PRODID:-//Jakobusfreunde Paderborn - ECPv6.15.20//NONSGML v1.0//EN
CALSCALE:GREGORIAN
METHOD:PUBLISH
X-ORIGINAL-URL:https://jakobusfreunde-paderborn.com
X-WR-CALDESC:Veranstaltungen für Jakobusfreunde Paderborn
REFRESH-INTERVAL;VALUE=DURATION:PT1H
X-Robots-Tag:noindex
X-PUBLISHED-TTL:PT1H
BEGIN:VTIMEZONE
TZID:Europe/Berlin
BEGIN:DAYLIGHT
TZOFFSETFROM:+0100
TZOFFSETTO:+0200
TZNAME:CEST
DTSTART:20220327T010000
END:DAYLIGHT
BEGIN:STANDARD
TZOFFSETFROM:+0200
TZOFFSETTO:+0100
TZNAME:CET
DTSTART:20221030T010000
END:STANDARD
BEGIN:DAYLIGHT
TZOFFSETFROM:+0100
TZOFFSETTO:+0200
TZNAME:CEST
DTSTART:20230326T010000
END:DAYLIGHT
BEGIN:STANDARD
TZOFFSETFROM:+0200
TZOFFSETTO:+0100
TZNAME:CET
DTSTART:20231029T010000
END:STANDARD
BEGIN:DAYLIGHT
TZOFFSETFROM:+0100
TZOFFSETTO:+0200
TZNAME:CEST
DTSTART:20240331T010000
END:DAYLIGHT
BEGIN:STANDARD
TZOFFSETFROM:+0200
TZOFFSETTO:+0100
TZNAME:CET
DTSTART:20241027T010000
END:STANDARD
END:VTIMEZONE
BEGIN:VEVENT
DTSTART;TZID=Europe/Berlin:20230701T093000
DTEND;TZID=Europe/Berlin:20230701T180000
DTSTAMP:20260422T074146
CREATED:20230518T180600Z
LAST-MODIFIED:20230518T180600Z
UID:30165-1688203800-1688234400@jakobusfreunde-paderborn.com
SUMMARY:Radwallfahrt zum Kloster Dalheim
DESCRIPTION:Liebe Pilgerfreunde\,\nam 01. Juli 2023 wollen wir mit den Rädern auf dem Jakobsweg zum Kloster Dalheim fahren\, ca. 22 km.\nNachdem wir uns im Klosterwirtshaus gestärkt und ausgeruht haben\, erwartet uns eine Führung durch das Klostermuseum. Auf dem Rückweg\nfolgen wir eine Weile dem Altenau-Radweg. Etwa auf halber Strecke machen wir im Kapellenhof eine Kaffeepause\, ehe wir zum Paderborner Dom zurückkehren\, ca. 24 km. \nDie Tour kann mit Fahrrädern mit und ohne Unterstützung gefahren werden. Dieses Mal müssen wir einige Höhenmeter auf und ab überwinden\, so dass eine gewisse Kondition erforderlich ist.\nFür Eintritt und Führung entstehen Kosten von 8\,00 € pro Person bei 24 Teilnehmer/innen\, die vormittags eingesammelt werden. Die Speisen zahlt jeder selbst vor Ort. \nVerbindliche Anmeldungen bitte bis 15. Juni im Pilgerbüro\, danach werden freie Plätze auch an Interessenten\naußerhalb des Vereins vergeben. Letzte Informationen gibt es ca. 1 Woche vor der Fahrt. \nZeitplan \n\n9:30 Uhr\nTreffen am Paradiesportal des Paderborner Doms\, Begrüßung\, Einstimmung\, Start\nKurzer Halt bei der Kapelle zur Hilligen Seele\n12:00 Uhr\nGeplante Ankunft in Dalheim\, Stärkung im Klosterwirtshaus\n13:30 Uhr\n1½ stündige Führung „Ein Blick ins Paradies“\n15:15 Uhr\nAufbruch zur Rückfahrt\nKaffee-Stopp bei Klus-Kapelle und Kapellenhof\n18:00 Uhr\nAnkunft am Dom
URL:https://jakobusfreunde-paderborn.com/termin/radwallfahrt-zum-kloster-dalheim/
CATEGORIES:Pilgerreise,Veranstaltung
ORGANIZER;CN="Jakobusfreunde Paderborn":MAILTO:info@jakobusfreunde-paderborn.com
END:VEVENT
BEGIN:VEVENT
DTSTART;TZID=Europe/Berlin:20230725T100000
DTEND;TZID=Europe/Berlin:20230725T110000
DTSTAMP:20260422T074146
CREATED:20230707T105705Z
LAST-MODIFIED:20230707T105705Z
UID:30884-1690279200-1690282800@jakobusfreunde-paderborn.com
SUMMARY:Einweihung der Jakobusstatue in Werl
DESCRIPTION:Am Jakobustag (25.7.2023) wird in der Basilika Werl eine Jakobusstatue geweiht. Weitere Informationen sind in diesem pdf-Artikel zu finden.
URL:https://jakobusfreunde-paderborn.com/termin/einweihung-der-jakobusstatue-in-werl/
LOCATION:Werl
CATEGORIES:Veranstaltung
END:VEVENT
BEGIN:VEVENT
DTSTART;TZID=Europe/Berlin:20230726T180000
DTEND;TZID=Europe/Berlin:20230726T210000
DTSTAMP:20260422T074146
CREATED:20230108T092656Z
LAST-MODIFIED:20230723T092438Z
UID:28625-1690394400-1690405200@jakobusfreunde-paderborn.com
SUMMARY:Jakobustag und Liborivortrag
DESCRIPTION:Kurze Feier zum Jakobustag und Liborivortrag \nAufgrund einer plötzlichen Erkrankung von Dr. Andreas Drouve muss der ursprünglich angekündigte diesjährige Liborivortrag zum Thema “Der Jakobsweg – Plätze für die Seele und kuriose Stationen“ leider entfallen. Erfreulicherweise jedoch konnte  mit Martin Gottschewski kurzfristig Ersatz gefunden werden. Der Titel seines Vortrags lautet nunmehr “Pilgern auf dem Camino de San Salvador“. \n \nDer “Camino de San Salvador“ ist einer der beeindruckendsten Pilgerwege Nordspaniens. Er verbindet den “Camino francés“ ab León mit der asturischen Königsstadt Oviedo\, gleichzeitig dem Startpunkt des Camino primitivo. Der “Camino de San Salvador“ führt durch die scheinbar unberührte Natur der Kantabrischen Berge und hält trotzdem eine sehr gute Infrastruktur mit Pilgerherbergen und anderen Unterkünften\nbereit. Ziel ist die Kathedrale von Oviedo mit seiner Vielzahl an Reliquien. \nFreuen wir uns auf eine interessante \nvirtuelle und kurzweilige Reise und tauchen wir ein in die Schönheit dieses einzigartigen Weges. \nMartin Gottschewski\, in Bremen lebender und arbeitender Freizeitpädagoge\, ist seit vielen Jahren auf dem Jakobsweg unterwegs. Er bringt umfangreiche Erfahrungen von den verschiedenen Wegen in Deutschland\, Frankreich\, Portugal sowie Spanien mit. Zu dem begleitet er seit Jahren Erstpilger und Einzelpilgernde in besonderen Lebenslagen. \nDer Vortrag wird mit passenden Fotos unterlegt. \nDer Vortrag findet statt am Mittwoch\, den 26.07.2023\, um 18.00 Uhr\,\nim Audimax der Theologischen Fakultät Paderborn\,\nEingang von der Liboristraße. \nIm Anschluss steht der Referent für Fragen zur Verfügung.
URL:https://jakobusfreunde-paderborn.com/termin/jakobustag-und-liborivortrag/
CATEGORIES:Veranstaltung
END:VEVENT
END:VCALENDAR