BEGIN:VCALENDAR
VERSION:2.0
PRODID:-//Jakobusfreunde Paderborn - ECPv6.15.20//NONSGML v1.0//EN
CALSCALE:GREGORIAN
METHOD:PUBLISH
X-WR-CALNAME:Jakobusfreunde Paderborn
X-ORIGINAL-URL:https://jakobusfreunde-paderborn.com
X-WR-CALDESC:Veranstaltungen für Jakobusfreunde Paderborn
REFRESH-INTERVAL;VALUE=DURATION:PT1H
X-Robots-Tag:noindex
X-PUBLISHED-TTL:PT1H
BEGIN:VTIMEZONE
TZID:Europe/Berlin
BEGIN:DAYLIGHT
TZOFFSETFROM:+0100
TZOFFSETTO:+0200
TZNAME:CEST
DTSTART:20220327T010000
END:DAYLIGHT
BEGIN:STANDARD
TZOFFSETFROM:+0200
TZOFFSETTO:+0100
TZNAME:CET
DTSTART:20221030T010000
END:STANDARD
BEGIN:DAYLIGHT
TZOFFSETFROM:+0100
TZOFFSETTO:+0200
TZNAME:CEST
DTSTART:20230326T010000
END:DAYLIGHT
BEGIN:STANDARD
TZOFFSETFROM:+0200
TZOFFSETTO:+0100
TZNAME:CET
DTSTART:20231029T010000
END:STANDARD
BEGIN:DAYLIGHT
TZOFFSETFROM:+0100
TZOFFSETTO:+0200
TZNAME:CEST
DTSTART:20240331T010000
END:DAYLIGHT
BEGIN:STANDARD
TZOFFSETFROM:+0200
TZOFFSETTO:+0100
TZNAME:CET
DTSTART:20241027T010000
END:STANDARD
END:VTIMEZONE
BEGIN:VEVENT
DTSTART;TZID=Europe/Berlin:20230407T080000
DTEND;TZID=Europe/Berlin:20230407T170000
DTSTAMP:20260422T130507
CREATED:20230301T204927Z
LAST-MODIFIED:20230301T204927Z
UID:28965-1680854400-1680886800@jakobusfreunde-paderborn.com
SUMMARY:Karfreitagspilgern von Paderborn nach Kleinenberg
DESCRIPTION:Die Tradition von Kleinenberger Pilgern\, am Karfreitag von Paderborn nach Kleinenberg zu pilgern\, findet auch in diesem Jahr ihre Fortsetzung. Im vergangenen Jahr beteiligten sich auch Pilger vom Freundeskreis der Jakobuspilger\, Paderborn an diesem Pilgerweg. Dies wird auch in diesem Jahr angeboten.\nBeginn ist am Karfreitag\, 7. April 2023 um 8.00 an der Paradiespforte des Paderborner Doms. Der Weg führt durch den alten Hohlweg (Mallinkrodtstr.) zur Universität\, weiter zum Haxtergrund und zur Kapelle Hilligen Seele. Bei einer Rast werden auch „geistliche Speisen“ angeboten. Von dort geht es weiter durch den Nonnenbusch nach Grundsteinheim. Hier findet eine weitere „besinnliche Rast“ an der Brücke der alten Bundesstaße statt.\nGrundsteinheim ist mit dem Bus Nr.485 von Paderborn aus erreichbar.\nWeiter geht es durch die Feldflur über Lichtenau         nach Kleinenberg. Ziel ist das Pilgercafe Kleinenberg\, Goldstr. 1 a. Dort ist eine ausgiebige Rast geplant.\nDie Rückfahrt nach Paderborn erfolgt mit dem Bus.\nDie Strecke beträgt ca. 28 km. Teilstrecken sind möglich.\nHerzliche Einladung an alle\, die den Karfreitag mal anders erleben möchten.
URL:https://jakobusfreunde-paderborn.com/termin/karfreitagspilgern-von-paderborn-nach-kleinenberg/
LOCATION:Paderborner Dom\, Domplatz\, Paderborn\, 33098\, Deutschland
CATEGORIES:Pilgerreise,Veranstaltung
END:VEVENT
BEGIN:VEVENT
DTSTART;TZID=Europe/Berlin:20230421T100000
DTEND;TZID=Europe/Berlin:20230423T170000
DTSTAMP:20260422T130507
CREATED:20230106T120319Z
LAST-MODIFIED:20230127T125806Z
UID:28600-1682071200-1682269200@jakobusfreunde-paderborn.com
SUMMARY:Weiter von Paderborn nach Soest
DESCRIPTION:Nach der Pilgerwanderung zum Auftakt auf dem Jakobusweg von Corvey nach Dortmund im Jahre 2022 steht nun der Pilgerweg von Paderborn bis ins Ruhrgebiet nach Dortmund an. Der Weg führt über den uralten Hellweg. \nDom zu Paderborn \nBeginnen wollen wir am Freitag\, dem 21. April 2023\, um 10:00 Uhr\, in Paderborn am Paradiesportal des Doms. Die erste Etappe führt uns über knapp 15 km bis nach Salzkotten. Dort werden wir im geistlichen Zentrum Franziskus übernachten\, Preis incl. Frühstück: 45\,- €. Es sind EZ und DZ vorhanden. \nAm Samstag\, dem 22. April 2023 starten wir um 09:00 Uhr an der Kirche St. Johannes Baptist in Salzkotten. Die Etappe endet nach ca. 24\,5 km in Erwitte. Dort ist die zweite Übernachtung im Motel Schlegel vorgesehen\, Preis für die Übernachtung im DZ: 27\,- €. \nDie dritte Etappe startet wiederum um 09:00 Uhr\, am Sonntag\, dem 23. April 2023 in Erwitte am o. a. Motel. Zunächst suchen wir die Kirche St. Laurentius im Ortszentrum auf.  Diesmal geht es über gut 26 km bis zum Soester Dom (St. Patrokli). Dort endet der erste Abschnitt der Pilgerwanderung. \nAnmeldungen werden bis zum 19. Februar 2023 ans das Pilgerbüro erbeten: info@jakobusfreunde-paderborn.com. Falls jemand keine Übernachtung benötigt\, ist das bei der Anmeldung unbedingt anzugeben. Auch ist es möglich. nur an einzelnen Etappen teilzunehmen. \nInformationen über den Pilgerweg gibt es im Internet unter \nWestf. Abendmahl\, Wiesenkirche Soest \nJakobsweg Westfalen: Höxter-Dortmund • Pilgerweg » outdooractive.com \n  \nDie Fortsetzung unserer Pilgerwanderung erfolgt am Freitag\, dem 25. August 2023\, um 10:00 Uhr\, an der Kirche St. Patrokli (Dom) in Soest. Diese Etappe führt über gut 17 km zur Kirche St. Walburga nach Werl. \nDie nächste Etappe beginnt dort am Samstag\, dem 26. August 2023\, um 09:00 Uhr. Ziel ist die Ev. Stadtkirche in Unna nach gut 18 km. \nDort brechen wir dann zu unserer letzten Etappe am Sonntag\, dem 27. August 2023\, um 09:00 Uhr\, auf. \nDiese soll an der Reinoldikirche in Dortmund nach wiederum knapp 18 km enden. \nDie Preise und die Übernachtungsmöglichkeiten dazu werden noch bekannt gegeben. Auch dazu gelten wieder die o. a. Anmeldebedingungen\, wobei die Anmeldefrist noch mitgeteilt wird.
URL:https://jakobusfreunde-paderborn.com/termin/weiter-von-paderborn-nach-soest/
LOCATION:Paderborn Dom\, Domplatz\, Paderborn\, 33098
CATEGORIES:Veranstaltung
ORGANIZER;CN="Jakobusfreunde Paderborn":MAILTO:info@jakobusfreunde-paderborn.com
END:VEVENT
BEGIN:VEVENT
DTSTART;VALUE=DATE:20230424
DTEND;VALUE=DATE:20230507
DTSTAMP:20260422T130507
CREATED:20221209T144226Z
LAST-MODIFIED:20221223T062049Z
UID:28497-1682294400-1683417599@jakobusfreunde-paderborn.com
SUMMARY:Ultreia - Santiago\, wir kommen 2023
DESCRIPTION:13 Tage und näher ans Ziel – Fortsetzungsreise für Teilnehmer früherer Adventspilgereisen vom 24.04.2023 bis zum 06.05.2023 \nwir setzen unseren gemeinsamen Pilgerweg nach Santiago de Compostela fort und beginnen diesmal am 24.04.2023 in Madrid. Von dort aus fahren wir mit dem Bus nach Sahagún und beginnen nach einer Übernachtung am 25.04.2023 unsere Reise rund 230 km zu Fuß bis nach Triacastela. Von dort aus fahren wir mit dem Bus zum Flughafen von Santiago de Compostela\, wo wir am 06.05.2023 unsere Pilgerreise beenden. \nWeitere Informationen zur Reise\, die leider schon ausgebucht ist\, sind hier in diesem PDF-Flyer zu finden.
URL:https://jakobusfreunde-paderborn.com/termin/ultreia-santiago-wir-kommen-2023/
END:VEVENT
END:VCALENDAR