BEGIN:VCALENDAR
VERSION:2.0
PRODID:-//Jakobusfreunde Paderborn - ECPv6.15.20//NONSGML v1.0//EN
CALSCALE:GREGORIAN
METHOD:PUBLISH
X-WR-CALNAME:Jakobusfreunde Paderborn
X-ORIGINAL-URL:https://jakobusfreunde-paderborn.com
X-WR-CALDESC:Veranstaltungen für Jakobusfreunde Paderborn
REFRESH-INTERVAL;VALUE=DURATION:PT1H
X-Robots-Tag:noindex
X-PUBLISHED-TTL:PT1H
BEGIN:VTIMEZONE
TZID:Europe/Berlin
BEGIN:DAYLIGHT
TZOFFSETFROM:+0100
TZOFFSETTO:+0200
TZNAME:CEST
DTSTART:20220327T010000
END:DAYLIGHT
BEGIN:STANDARD
TZOFFSETFROM:+0200
TZOFFSETTO:+0100
TZNAME:CET
DTSTART:20221030T010000
END:STANDARD
BEGIN:DAYLIGHT
TZOFFSETFROM:+0100
TZOFFSETTO:+0200
TZNAME:CEST
DTSTART:20230326T010000
END:DAYLIGHT
BEGIN:STANDARD
TZOFFSETFROM:+0200
TZOFFSETTO:+0100
TZNAME:CET
DTSTART:20231029T010000
END:STANDARD
BEGIN:DAYLIGHT
TZOFFSETFROM:+0100
TZOFFSETTO:+0200
TZNAME:CEST
DTSTART:20240331T010000
END:DAYLIGHT
BEGIN:STANDARD
TZOFFSETFROM:+0200
TZOFFSETTO:+0100
TZNAME:CET
DTSTART:20241027T010000
END:STANDARD
END:VTIMEZONE
BEGIN:VEVENT
DTSTART;TZID=Europe/Berlin:20230303T080000
DTEND;TZID=Europe/Berlin:20230303T170000
DTSTAMP:20260422T144016
CREATED:20230303T062110Z
LAST-MODIFIED:20230303T062110Z
UID:29006-1677830400-1677862800@jakobusfreunde-paderborn.com
SUMMARY:Testveranstaltung
DESCRIPTION:Hallo Testtester
URL:https://jakobusfreunde-paderborn.com/termin/testveranstaltung/
CATEGORIES:Veranstaltung
END:VEVENT
BEGIN:VEVENT
DTSTART;TZID=Europe/Berlin:20230324T170000
DTEND;TZID=Europe/Berlin:20230324T200000
DTSTAMP:20260422T144016
CREATED:20230116T173520Z
LAST-MODIFIED:20230116T173520Z
UID:28658-1679677200-1679688000@jakobusfreunde-paderborn.com
SUMMARY:Eröffnung der Pilgersaison am 24. März
DESCRIPTION:Liebe Pilgerfreunde\, hier unsere nächste Veranstaltung: \nFreitag\, 24.03.2023\, 17:00 Uhr\, Eröffnung der Pilgersaison \nim Haus Maria Immaculata\, Mallinckrodtstraße 1\, 33098 Paderborn \n 17:00 Uhr: Andacht in der Kapelle \ndanach Imbiss im Haus Immaculata (Foto)\, Preis: 6\,- € \ndanach Kurzvortrag: Der Winterweg – Camino de Invierno\, Karl-Rudolf Böttcher \nDazu sind alle Pilgerfreunde aus Paderborn und Umgebung herzlich eingeladen.
URL:https://jakobusfreunde-paderborn.com/termin/eroeffnung-der-pilgersaison-am-24-maerz/
LOCATION:Haus Immaculata\, Mallinckrodtstr. 1\, Paderborn\, NRW\, 33106\, Deutschland
ORGANIZER;CN="Jakobusfreunde Paderborn":MAILTO:info@jakobusfreunde-paderborn.com
END:VEVENT
END:VCALENDAR