BEGIN:VCALENDAR
VERSION:2.0
PRODID:-//Jakobusfreunde Paderborn - ECPv6.15.20//NONSGML v1.0//EN
CALSCALE:GREGORIAN
METHOD:PUBLISH
X-WR-CALNAME:Jakobusfreunde Paderborn
X-ORIGINAL-URL:https://jakobusfreunde-paderborn.com
X-WR-CALDESC:Veranstaltungen für Jakobusfreunde Paderborn
REFRESH-INTERVAL;VALUE=DURATION:PT1H
X-Robots-Tag:noindex
X-PUBLISHED-TTL:PT1H
BEGIN:VTIMEZONE
TZID:Europe/Berlin
BEGIN:DAYLIGHT
TZOFFSETFROM:+0100
TZOFFSETTO:+0200
TZNAME:CEST
DTSTART:20250330T010000
END:DAYLIGHT
BEGIN:STANDARD
TZOFFSETFROM:+0200
TZOFFSETTO:+0100
TZNAME:CET
DTSTART:20251026T010000
END:STANDARD
BEGIN:DAYLIGHT
TZOFFSETFROM:+0100
TZOFFSETTO:+0200
TZNAME:CEST
DTSTART:20260329T010000
END:DAYLIGHT
BEGIN:STANDARD
TZOFFSETFROM:+0200
TZOFFSETTO:+0100
TZNAME:CET
DTSTART:20261025T010000
END:STANDARD
BEGIN:DAYLIGHT
TZOFFSETFROM:+0100
TZOFFSETTO:+0200
TZNAME:CEST
DTSTART:20270328T010000
END:DAYLIGHT
BEGIN:STANDARD
TZOFFSETFROM:+0200
TZOFFSETTO:+0100
TZNAME:CET
DTSTART:20271031T010000
END:STANDARD
END:VTIMEZONE
BEGIN:VEVENT
DTSTART;TZID=Europe/Berlin:20260712T101500
DTEND;TZID=Europe/Berlin:20260712T153000
DTSTAMP:20260423T200538
CREATED:20260423T085657Z
LAST-MODIFIED:20260423T085803Z
UID:36177-1783851300-1783870200@jakobusfreunde-paderborn.com
SUMMARY:Radpilgern am 12. Juli
DESCRIPTION:Liebe Radpilgerfreunde\, \ninzwischen ist die Planung des Pilgerradweges zum Sonnengesang des hl. Franziskus weiter fortgeschritten und der Ablauf ist folgendermaßen geplant: \nDatum/Zeit: So. 12.07.2026\, 10:15 Uhr – ca. 15 – 15:30 Uhr \nTreffpunkt:   Stele an der Kirche der Franziskanerinnen in Salzkotten\, Paderborner Str. 7 \nMitbringen: Intaktes Fahrrad\, Fahrradhelm\, Verpflegung und Getränke für die gesamte Tour\, eventuell: Picknickdecke \nFür Radpilger\, die mit dem Auto anreisen\, gibt es schräg gegenüber den großen kostenlosen Parkplatz „Alter Schützenplatz“. Von Paderborn kommend fährt man durch den Kreisverkehr weiter stadteinwärts und biegt hinter der Classic-Tankstelle links ab. Eingabe ins Navi: Alter Schützenplatz\, Alte Bleiche\, 33154 Salzkotten. \nIn der Mutterhauskirche wird um 9:15 Uhr die hl. Messe gefeiert und wir sind herzlich eingeladen daran teilzunehmen. \nAnschließend um 10:15 Uhr wird uns Schwester Alexandra von den Franziskanerinnen etwas zur Entstehung des Pilgerradweges erzählen. Gegen 10:30 Uhr wollen wir losradeln. Der Weg führt uns vom Emmausweg über Scharmede\, Thüle\, Mantinghausen\, Verlar\, Holsen\, Verne\, und Upsprunge wieder nach Salzkotten. Wir werden an allen Stelen kurz anhalten zum Betrachten der Bilder und Texte\, an drei Stelen werden wir uns etwas mehr Zeit lassen für Gedanken\, Anregungen und Impulse zum Thema. \nIn Holsen wollen wir die Lichterkirche besuchen und im Philipp Neri Garten eine Picknick-Pause machen. In Verne ist nach dem Impuls Zeit für die Besichtigung der Wallfahrtskirche eingeplant. Den Schlussimpuls gibt es an der Stele beim Gradierwerk in Salzkotten. Anschließend laden wir zum gemütlichen Ausklang im Ratskaffee am Markt ein. \nDie Strecke beträgt ca. 35 km und ist eben\, so dass sie auch mit Fahrrädern ohne Unterstützung gut zu fahren ist. \nEine Anmeldung für die Radtour ist nicht erforderlich\, aber hilfreich. Zur Planung der Einkehr werden wir am Vormittag die Zahl der Interessenten abfragen. \nWir freuen uns schon auf ein schönes gemeinsames Radpilgererlebnis \nJosef Hötte und Maria Diedrich
URL:https://jakobusfreunde-paderborn.com/termin/radpilgern-am-12-juli/
LOCATION:Mutterhauskirche\, Paderborner Str. 7\, Salzkotten\, 33154\, Germany
CATEGORIES:Pilgerwanderung
END:VEVENT
END:VCALENDAR