BEGIN:VCALENDAR
VERSION:2.0
PRODID:-//Jakobusfreunde Paderborn - ECPv6.15.20//NONSGML v1.0//EN
CALSCALE:GREGORIAN
METHOD:PUBLISH
X-ORIGINAL-URL:https://jakobusfreunde-paderborn.com
X-WR-CALDESC:Veranstaltungen für Jakobusfreunde Paderborn
REFRESH-INTERVAL;VALUE=DURATION:PT1H
X-Robots-Tag:noindex
X-PUBLISHED-TTL:PT1H
BEGIN:VTIMEZONE
TZID:Europe/Berlin
BEGIN:DAYLIGHT
TZOFFSETFROM:+0100
TZOFFSETTO:+0200
TZNAME:CEST
DTSTART:20250330T010000
END:DAYLIGHT
BEGIN:STANDARD
TZOFFSETFROM:+0200
TZOFFSETTO:+0100
TZNAME:CET
DTSTART:20251026T010000
END:STANDARD
BEGIN:DAYLIGHT
TZOFFSETFROM:+0100
TZOFFSETTO:+0200
TZNAME:CEST
DTSTART:20260329T010000
END:DAYLIGHT
BEGIN:STANDARD
TZOFFSETFROM:+0200
TZOFFSETTO:+0100
TZNAME:CET
DTSTART:20261025T010000
END:STANDARD
BEGIN:DAYLIGHT
TZOFFSETFROM:+0100
TZOFFSETTO:+0200
TZNAME:CEST
DTSTART:20270328T010000
END:DAYLIGHT
BEGIN:STANDARD
TZOFFSETFROM:+0200
TZOFFSETTO:+0100
TZNAME:CET
DTSTART:20271031T010000
END:STANDARD
END:VTIMEZONE
BEGIN:VEVENT
DTSTART;TZID=Europe/Berlin:20260403T080000
DTEND;TZID=Europe/Berlin:20260403T160000
DTSTAMP:20260420T073118
CREATED:20260129T093131Z
LAST-MODIFIED:20260129T093253Z
UID:36046-1775203200-1775232000@jakobusfreunde-paderborn.com
SUMMARY:Karfreitagspilgern am 03.04.
DESCRIPTION:Karfreitagspilgern am 3.April 2026 von Paderborn nach Kleinenberg \nIn diesem Jahr findet wieder das traditionelle Karfreitagspilgern statt und zwar am 3. April 2026.  Der Freundeskreis der Jakobuspilger aus Paderborn beteiligt sich erneut an der Ausrichtung  dieser Pilgerwanderung\, die vor 11 Jahren von fünf jungen Menschen aus Kleinenberg begonnen wurde. Kleinenberg zählt zu den ältesten Wallfahrtsorten in Westfalen. Man pilgert zum Gnadenbild der Gottesmutter mit  dem Titel „Maria – Helferin vom Berge“. \nDie Organisation übernehmen Ewald Reichstein aus Kleinenberg und Heinz Volke vom Freundeskreis.\nStart ist um 8.00 Uhr am Karfreitag an der Paradiespforte des Paderborner Doms. Der Weg führt durch den alten Hohlweg (Mallinkrodtstr.) zur Universität\, weiter durch den Haxtergrund zum „Stern“ und zur Kapelle „Zur Hilligen Seele“ bei Dörenhagen (ca.9.30 Uhr). Von dort geht es weiter durch den Nonnenbusch nach Lichtenau-Grundsteinheim. Hier findet eine weitere Rast an der Schützenhalle im Ort statt (ca.11.45Uhr). \nUnterwegs erfolgen an einigen Stationen kurze\, besinnliche Textpausen. Weiter geht es durch die Feldflur über Lichtenau  nach Kleinenberg vorbei am Muttergottesbrunnen und der Wallfahrtskirche. Ziel ist das Pilgercafe Kleinenberg\, Goldstr. 1 a. Dort ist eine ausgiebige Rast geplant. \nDie Rückfahrt nach Paderborn erfolgt am späteren Nachmittag  mit dem Linienbus S 85. Die Strecke beträgt ca. 28 km. Auch Teilstrecken sind möglich. \nHerzliche Einladung an alle\, die den Karfreitag mal anders erleben möchten. Bei Rückfragen gerne Kontaktaufnahme mit Heinz Volke über das Pilgerbüro (05251-5068677). Die Teilnahme an der Pilgerwanderung erfolgt in eigener Verantwortung und auf eigene\, individuelle Kosten.
URL:https://jakobusfreunde-paderborn.com/termin/karfreitagspilgern-am-03-04/
LOCATION:Paderborn Dom\, Domplatz\, Paderborn\, 33098
CATEGORIES:Pilgerwanderung
ORGANIZER;CN="Pilgercaf%C3%A9 Kleinenberg":MAILTO:info@pilgercafe-kleinenberg.de
END:VEVENT
END:VCALENDAR