BEGIN:VCALENDAR
VERSION:2.0
PRODID:-//Jakobusfreunde Paderborn - ECPv6.15.20//NONSGML v1.0//EN
CALSCALE:GREGORIAN
METHOD:PUBLISH
X-ORIGINAL-URL:https://jakobusfreunde-paderborn.com
X-WR-CALDESC:Veranstaltungen für Jakobusfreunde Paderborn
REFRESH-INTERVAL;VALUE=DURATION:PT1H
X-Robots-Tag:noindex
X-PUBLISHED-TTL:PT1H
BEGIN:VTIMEZONE
TZID:Europe/Berlin
BEGIN:DAYLIGHT
TZOFFSETFROM:+0100
TZOFFSETTO:+0200
TZNAME:CEST
DTSTART:20250330T010000
END:DAYLIGHT
BEGIN:STANDARD
TZOFFSETFROM:+0200
TZOFFSETTO:+0100
TZNAME:CET
DTSTART:20251026T010000
END:STANDARD
BEGIN:DAYLIGHT
TZOFFSETFROM:+0100
TZOFFSETTO:+0200
TZNAME:CEST
DTSTART:20260329T010000
END:DAYLIGHT
BEGIN:STANDARD
TZOFFSETFROM:+0200
TZOFFSETTO:+0100
TZNAME:CET
DTSTART:20261025T010000
END:STANDARD
BEGIN:DAYLIGHT
TZOFFSETFROM:+0100
TZOFFSETTO:+0200
TZNAME:CEST
DTSTART:20270328T010000
END:DAYLIGHT
BEGIN:STANDARD
TZOFFSETFROM:+0200
TZOFFSETTO:+0100
TZNAME:CET
DTSTART:20271031T010000
END:STANDARD
END:VTIMEZONE
BEGIN:VEVENT
DTSTART;TZID=Europe/Berlin:20260219T190000
DTEND;TZID=Europe/Berlin:20260219T210000
DTSTAMP:20260420T101928
CREATED:20260129T100211Z
LAST-MODIFIED:20260129T100211Z
UID:36051-1771527600-1771534800@jakobusfreunde-paderborn.com
SUMMARY:Pilgerstammtisch am 19.02. in Paderborn
DESCRIPTION:Nach langer Pause möchten wir herzlich einladen zum \nPILGERSTAMMTISCH IN PADERBORN \nHier sollen erfahrene und Interessierte zusammenkommen\, um sich über ihre Pilgererfahrungen auszutauschen\, neue Wege zu entdecken und sich gegenseitig zu inspirieren. Von der Vorbereitung auf eine Pilgerreise\, Infos zu den verschiedensten Pilgerwegen in Deutschland und Spanien – wir sind offen für Gespräche. Gerne nehmen wir auch eure Themen-Wünsche entgegen. \nVorerst starten wir mit 2 Terminen im Pilgerbüro\, Busdorfmauer 33\, 33098 Paderborn \nDonnerstag\, 19.02.2026 um 19.00 Uhr mit Elke Reineke \nDonnerstag\, 05.11.2026 um 19.00 Uhr mit Heino von Groote \nHabt ihr noch Fragen\, bitte meldet euch im Pilgerbüro. Wir freuen uns auf einen tollen Abend. \nMit freundlichen Grüßen\, buen camino! \nElke Reineke
URL:https://jakobusfreunde-paderborn.com/termin/pilgerstammtisch-am-19-02-in-paderborn/
LOCATION:Pilgerbüro\, Busdorfmauer 33\, Paderborn\, 33098\, Germany
CATEGORIES:Pilgerstammtisch
ORGANIZER;CN="Jakobusfreunde Paderborn":MAILTO:info@jakobusfreunde-paderborn.com
END:VEVENT
END:VCALENDAR