BEGIN:VCALENDAR
VERSION:2.0
PRODID:-//Jakobusfreunde Paderborn - ECPv6.15.20//NONSGML v1.0//EN
CALSCALE:GREGORIAN
METHOD:PUBLISH
X-ORIGINAL-URL:https://jakobusfreunde-paderborn.com
X-WR-CALDESC:Veranstaltungen für Jakobusfreunde Paderborn
REFRESH-INTERVAL;VALUE=DURATION:PT1H
X-Robots-Tag:noindex
X-PUBLISHED-TTL:PT1H
BEGIN:VTIMEZONE
TZID:Europe/Berlin
BEGIN:DAYLIGHT
TZOFFSETFROM:+0100
TZOFFSETTO:+0200
TZNAME:CEST
DTSTART:20230326T010000
END:DAYLIGHT
BEGIN:STANDARD
TZOFFSETFROM:+0200
TZOFFSETTO:+0100
TZNAME:CET
DTSTART:20231029T010000
END:STANDARD
BEGIN:DAYLIGHT
TZOFFSETFROM:+0100
TZOFFSETTO:+0200
TZNAME:CEST
DTSTART:20240331T010000
END:DAYLIGHT
BEGIN:STANDARD
TZOFFSETFROM:+0200
TZOFFSETTO:+0100
TZNAME:CET
DTSTART:20241027T010000
END:STANDARD
BEGIN:DAYLIGHT
TZOFFSETFROM:+0100
TZOFFSETTO:+0200
TZNAME:CEST
DTSTART:20250330T010000
END:DAYLIGHT
BEGIN:STANDARD
TZOFFSETFROM:+0200
TZOFFSETTO:+0100
TZNAME:CET
DTSTART:20251026T010000
END:STANDARD
END:VTIMEZONE
BEGIN:VEVENT
DTSTART;TZID=Europe/Berlin:20240329T080000
DTEND;TZID=Europe/Berlin:20240329T170000
DTSTAMP:20260421T200435
CREATED:20240310T114939Z
LAST-MODIFIED:20240310T115151Z
UID:34252-1711699200-1711731600@jakobusfreunde-paderborn.com
SUMMARY:Karfreitagspilgern
DESCRIPTION:Die Tradition von Kleinenberger Pilgern\, am Karfreitag von Paderborn nach Kleinenberg zu pilgern\, unter dem Motto „Aufbrechen\, um anzukommen“\, findet auch in diesem Jahr ihre Fortsetzung. Wie in vergangenen Jahren beteiligt sich der Freundeskreis der Jakobuspilger aus Paderborn an dieser Pilgerwanderung.\nStart ist um 8.00 Uhr am Karfreitag an der Paradiespforte des Paderborner Doms. Der Weg führt durch den alten Hohlweg (Mallinkrodtstr.) zur Universität\, weiter durch den Haxtergrund zum „Stern“ und zur Kapelle „Zur Hilligen Seele“ bei Dörenhagen. Von dort geht es weiter durch den Nonnenbusch nach Lichtenau-Grundsteinheim. Hier findet eine weitere Rast an der Brücke der alten Bundesstraße statt. \nUnterwegs erfolgen an einigen Stationen kurze\, besinnliche Textpausen. Weiter geht es durch die Feldflur über Lichtenau  nach Kleinenberg vorbei am Muttergottesbrunnen. Ziel ist das Pilgercafé Kleinenberg\, Goldstr. 1 a. Dort ist eine ausgiebige Rast geplant. \nDie Rückfahrt nach Paderborn erfolgt mit dem Linienbus. Die Strecke beträgt ca. 28 km. Auch Teilstrecken sind möglich. \nHerzliche Einladung an alle\, die den Karfreitag mal anders erleben möchten. Bei Rückfragen gerne Kontaktaufnahme mit Heinz Volke unter der Tel-Nr. 0521 40 28 84 \n—
URL:https://jakobusfreunde-paderborn.com/termin/karfreitagspilgern/
LOCATION:Paderborn Dom\, Domplatz\, Paderborn\, 33098
CATEGORIES:Pilgerwanderung
ORGANIZER;CN="Pilgercaf%C3%A9 Kleinenberg":MAILTO:info@pilgercafe-kleinenberg.de
END:VEVENT
END:VCALENDAR