BEGIN:VCALENDAR
VERSION:2.0
PRODID:-//Jakobusfreunde Paderborn - ECPv6.15.20//NONSGML v1.0//EN
CALSCALE:GREGORIAN
METHOD:PUBLISH
X-ORIGINAL-URL:https://jakobusfreunde-paderborn.com
X-WR-CALDESC:Veranstaltungen für Jakobusfreunde Paderborn
REFRESH-INTERVAL;VALUE=DURATION:PT1H
X-Robots-Tag:noindex
X-PUBLISHED-TTL:PT1H
BEGIN:VTIMEZONE
TZID:Europe/Berlin
BEGIN:DAYLIGHT
TZOFFSETFROM:+0100
TZOFFSETTO:+0200
TZNAME:CEST
DTSTART:20220327T010000
END:DAYLIGHT
BEGIN:STANDARD
TZOFFSETFROM:+0200
TZOFFSETTO:+0100
TZNAME:CET
DTSTART:20221030T010000
END:STANDARD
BEGIN:DAYLIGHT
TZOFFSETFROM:+0100
TZOFFSETTO:+0200
TZNAME:CEST
DTSTART:20230326T010000
END:DAYLIGHT
BEGIN:STANDARD
TZOFFSETFROM:+0200
TZOFFSETTO:+0100
TZNAME:CET
DTSTART:20231029T010000
END:STANDARD
BEGIN:DAYLIGHT
TZOFFSETFROM:+0100
TZOFFSETTO:+0200
TZNAME:CEST
DTSTART:20240331T010000
END:DAYLIGHT
BEGIN:STANDARD
TZOFFSETFROM:+0200
TZOFFSETTO:+0100
TZNAME:CET
DTSTART:20241027T010000
END:STANDARD
END:VTIMEZONE
BEGIN:VEVENT
DTSTART;TZID=Europe/Berlin:20230825T100000
DTEND;TZID=Europe/Berlin:20230827T160000
DTSTAMP:20260422T074009
CREATED:20230108T092759Z
LAST-MODIFIED:20230214T112654Z
UID:28627-1692957600-1693152000@jakobusfreunde-paderborn.com
SUMMARY:Weiter von Soest nach Dortmund
DESCRIPTION:Nachdem wir auf dem Jakobusweg\, d. h. dem alten Hellweg\, im Frühjahr die Hansestadt Soest erreicht haben werden\, wollen wir unsere Pilgerwanderung nun bis ins Ruhrgebiet mit Karl-R. Böttcher fortsetzen. Informationen über den Pilgerweg gibt es im Internet unter: \nJakobsweg Westfalen: Höxter-Dortmund • Pilgerweg » outdooractive.com \nSt. Patrokli Soest \nDer Start erfolgt am Freitag\, dem 25. August 2023\, um 10:00 Uhr\, an der Kirche St. Patrokli (Dom) in Soest. Diese Etappe führt über gut 17 km zur Wallfahrtsbasilika nach Werl. \nIn Werl werden wir im Pilgerkloster übernachten\, möglich sind Doppel- oder Mehrbettzimmer. Es wird lediglich eine Spende erwartet. \nGnadenbild in der Wallfahrtskirche Werl \nDie nächste Etappe beginnt dort am Samstag\, dem 26. August 2023\, um 09:00 Uhr. Ziel ist die Ev. Stadtkirche in Unna nach gut 18 km. Übernachten wollen wir im Ringhotel Katharinen Hof zum Preis von 68\,50 € incl. Frühstück im DZ. \nDort brechen wir dann zu unserer letzten Etappe am Sonntag\, dem 27. August 2023\, um 09:00 Uhr\, auf. \nDiese soll an der Reinoldikirche in Dortmund nach wiederum knapp 18 km enden. \nWiederum werden verbindliche Anmeldungen bis zum 15. Juni 2023 an unser Pilgerbüro erbeten.        info@jakobusfreunde-paderborn.com \nEs besteht erneut die Möglichkeit\, auch nur auf einzelnen Etappen mitzupilgern. Falls keine Übernachtung gewünscht wird\, ist dieses unbedingt  bei der Anmeldung anzugeben. \nReinoldikirche Dortmund
URL:https://jakobusfreunde-paderborn.com/termin/pilgern-auf-dem-hellweg-pb-dortmund/
LOCATION:St. Patrokli Soest\, Domplatz 1\, Soest\, 59494\, Deutschland
ORGANIZER;CN="Jakobusfreunde Paderborn":MAILTO:info@jakobusfreunde-paderborn.com
END:VEVENT
END:VCALENDAR