BEGIN:VCALENDAR
VERSION:2.0
PRODID:-//Jakobusfreunde Paderborn - ECPv6.15.20//NONSGML v1.0//EN
CALSCALE:GREGORIAN
METHOD:PUBLISH
X-WR-CALNAME:Jakobusfreunde Paderborn
X-ORIGINAL-URL:https://jakobusfreunde-paderborn.com
X-WR-CALDESC:Veranstaltungen für Jakobusfreunde Paderborn
REFRESH-INTERVAL;VALUE=DURATION:PT1H
X-Robots-Tag:noindex
X-PUBLISHED-TTL:PT1H
BEGIN:VTIMEZONE
TZID:Europe/Berlin
BEGIN:DAYLIGHT
TZOFFSETFROM:+0100
TZOFFSETTO:+0200
TZNAME:CEST
DTSTART:20220327T010000
END:DAYLIGHT
BEGIN:STANDARD
TZOFFSETFROM:+0200
TZOFFSETTO:+0100
TZNAME:CET
DTSTART:20221030T010000
END:STANDARD
BEGIN:DAYLIGHT
TZOFFSETFROM:+0100
TZOFFSETTO:+0200
TZNAME:CEST
DTSTART:20230326T010000
END:DAYLIGHT
BEGIN:STANDARD
TZOFFSETFROM:+0200
TZOFFSETTO:+0100
TZNAME:CET
DTSTART:20231029T010000
END:STANDARD
BEGIN:DAYLIGHT
TZOFFSETFROM:+0100
TZOFFSETTO:+0200
TZNAME:CEST
DTSTART:20240331T010000
END:DAYLIGHT
BEGIN:STANDARD
TZOFFSETFROM:+0200
TZOFFSETTO:+0100
TZNAME:CET
DTSTART:20241027T010000
END:STANDARD
END:VTIMEZONE
BEGIN:VEVENT
DTSTART;TZID=Europe/Berlin:20230813T140000
DTEND;TZID=Europe/Berlin:20230813T170000
DTSTAMP:20260422T073833
CREATED:20230707T105443Z
LAST-MODIFIED:20230709T150556Z
UID:30880-1691935200-1691946000@jakobusfreunde-paderborn.com
SUMMARY:Stadtführung “Auf Pilgerspuren in Herford”
DESCRIPTION:Auf Pilgerspuren in Herford: mit Herrn Polster wollen wir uns auf die Schwarzenmoor-Route begeben; ca. drei Stunden.\nDie Kosten der Führung von 100€ werden auf die max. 20 Teilnehmerzahl umgelegt.\nRückmeldungen bis 15.Juli 2023 an Heinz Volke: heinz.volke@jakobusfreunde-paderborn.com
URL:https://jakobusfreunde-paderborn.com/termin/stadtfuehrung-auf-pilgerspuren-in-herford/
LOCATION:Herford
CATEGORIES:Pilgerreise,Veranstaltung
END:VEVENT
END:VCALENDAR