BEGIN:VCALENDAR
VERSION:2.0
PRODID:-//Jakobusfreunde Paderborn - ECPv6.15.20//NONSGML v1.0//EN
CALSCALE:GREGORIAN
METHOD:PUBLISH
X-ORIGINAL-URL:https://jakobusfreunde-paderborn.com
X-WR-CALDESC:Veranstaltungen für Jakobusfreunde Paderborn
REFRESH-INTERVAL;VALUE=DURATION:PT1H
X-Robots-Tag:noindex
X-PUBLISHED-TTL:PT1H
BEGIN:VTIMEZONE
TZID:Europe/Berlin
BEGIN:DAYLIGHT
TZOFFSETFROM:+0100
TZOFFSETTO:+0200
TZNAME:CEST
DTSTART:20220327T010000
END:DAYLIGHT
BEGIN:STANDARD
TZOFFSETFROM:+0200
TZOFFSETTO:+0100
TZNAME:CET
DTSTART:20221030T010000
END:STANDARD
BEGIN:DAYLIGHT
TZOFFSETFROM:+0100
TZOFFSETTO:+0200
TZNAME:CEST
DTSTART:20230326T010000
END:DAYLIGHT
BEGIN:STANDARD
TZOFFSETFROM:+0200
TZOFFSETTO:+0100
TZNAME:CET
DTSTART:20231029T010000
END:STANDARD
BEGIN:DAYLIGHT
TZOFFSETFROM:+0100
TZOFFSETTO:+0200
TZNAME:CEST
DTSTART:20240331T010000
END:DAYLIGHT
BEGIN:STANDARD
TZOFFSETFROM:+0200
TZOFFSETTO:+0100
TZNAME:CET
DTSTART:20241027T010000
END:STANDARD
END:VTIMEZONE
BEGIN:VEVENT
DTSTART;TZID=Europe/Berlin:20230701T093000
DTEND;TZID=Europe/Berlin:20230701T180000
DTSTAMP:20260422T092555
CREATED:20230518T180600Z
LAST-MODIFIED:20230518T180600Z
UID:30165-1688203800-1688234400@jakobusfreunde-paderborn.com
SUMMARY:Radwallfahrt zum Kloster Dalheim
DESCRIPTION:Liebe Pilgerfreunde\,\nam 01. Juli 2023 wollen wir mit den Rädern auf dem Jakobsweg zum Kloster Dalheim fahren\, ca. 22 km.\nNachdem wir uns im Klosterwirtshaus gestärkt und ausgeruht haben\, erwartet uns eine Führung durch das Klostermuseum. Auf dem Rückweg\nfolgen wir eine Weile dem Altenau-Radweg. Etwa auf halber Strecke machen wir im Kapellenhof eine Kaffeepause\, ehe wir zum Paderborner Dom zurückkehren\, ca. 24 km. \nDie Tour kann mit Fahrrädern mit und ohne Unterstützung gefahren werden. Dieses Mal müssen wir einige Höhenmeter auf und ab überwinden\, so dass eine gewisse Kondition erforderlich ist.\nFür Eintritt und Führung entstehen Kosten von 8\,00 € pro Person bei 24 Teilnehmer/innen\, die vormittags eingesammelt werden. Die Speisen zahlt jeder selbst vor Ort. \nVerbindliche Anmeldungen bitte bis 15. Juni im Pilgerbüro\, danach werden freie Plätze auch an Interessenten\naußerhalb des Vereins vergeben. Letzte Informationen gibt es ca. 1 Woche vor der Fahrt. \nZeitplan \n\n9:30 Uhr\nTreffen am Paradiesportal des Paderborner Doms\, Begrüßung\, Einstimmung\, Start\nKurzer Halt bei der Kapelle zur Hilligen Seele\n12:00 Uhr\nGeplante Ankunft in Dalheim\, Stärkung im Klosterwirtshaus\n13:30 Uhr\n1½ stündige Führung „Ein Blick ins Paradies“\n15:15 Uhr\nAufbruch zur Rückfahrt\nKaffee-Stopp bei Klus-Kapelle und Kapellenhof\n18:00 Uhr\nAnkunft am Dom
URL:https://jakobusfreunde-paderborn.com/termin/radwallfahrt-zum-kloster-dalheim/
CATEGORIES:Pilgerreise,Veranstaltung
ORGANIZER;CN="Jakobusfreunde Paderborn":MAILTO:info@jakobusfreunde-paderborn.com
END:VEVENT
END:VCALENDAR