BEGIN:VCALENDAR
VERSION:2.0
PRODID:-//Jakobusfreunde Paderborn - ECPv6.15.20//NONSGML v1.0//EN
CALSCALE:GREGORIAN
METHOD:PUBLISH
X-ORIGINAL-URL:https://jakobusfreunde-paderborn.com
X-WR-CALDESC:Veranstaltungen für Jakobusfreunde Paderborn
REFRESH-INTERVAL;VALUE=DURATION:PT1H
X-Robots-Tag:noindex
X-PUBLISHED-TTL:PT1H
BEGIN:VTIMEZONE
TZID:Europe/Berlin
BEGIN:DAYLIGHT
TZOFFSETFROM:+0100
TZOFFSETTO:+0200
TZNAME:CEST
DTSTART:20220327T010000
END:DAYLIGHT
BEGIN:STANDARD
TZOFFSETFROM:+0200
TZOFFSETTO:+0100
TZNAME:CET
DTSTART:20221030T010000
END:STANDARD
BEGIN:DAYLIGHT
TZOFFSETFROM:+0100
TZOFFSETTO:+0200
TZNAME:CEST
DTSTART:20230326T010000
END:DAYLIGHT
BEGIN:STANDARD
TZOFFSETFROM:+0200
TZOFFSETTO:+0100
TZNAME:CET
DTSTART:20231029T010000
END:STANDARD
BEGIN:DAYLIGHT
TZOFFSETFROM:+0100
TZOFFSETTO:+0200
TZNAME:CEST
DTSTART:20240331T010000
END:DAYLIGHT
BEGIN:STANDARD
TZOFFSETFROM:+0200
TZOFFSETTO:+0100
TZNAME:CET
DTSTART:20241027T010000
END:STANDARD
END:VTIMEZONE
BEGIN:VEVENT
DTSTART;TZID=Europe/Berlin:20230507T100000
DTEND;TZID=Europe/Berlin:20230508T180000
DTSTAMP:20260422T125901
CREATED:20230108T092511Z
LAST-MODIFIED:20230411T192302Z
UID:28623-1683453600-1683568800@jakobusfreunde-paderborn.com
SUMMARY:Jubiläumsfeier 25 Jahre Jakobusfreunde\, 30 Jahre Städtefreundschaft PB-Pamplona
DESCRIPTION:10 Uhr Festhochamt im Paderborner Dom \n11:30 Uhr Festakt im Historischen Saal des Paderborner Rathauses\, Festredner: Heinz Paus\, früherer Bürgermeister von Paderborn und Pilger\, anschließend Imbiss \nBitte reservieren Sie sich etwas weiter unten auf dieser Seite eine Teilnahmekarte pro Person \n15:30 Uhr Möglichkeit des gemeinsamen Ausklangs bei Kaffee und Kuchen im Haxterpark\, Bus bis „Südring“ \nPilger werden gebeten\, ihre Muschel zu tragen.
URL:https://jakobusfreunde-paderborn.com/termin/jubilaeumsfeier-25-jahre-jakobusfreunde-30-jahre-staedtefreundschaft-pb-pamplona/
CATEGORIES:Veranstaltung
ORGANIZER;CN="Jakobusfreunde Paderborn":MAILTO:info@jakobusfreunde-paderborn.com
END:VEVENT
END:VCALENDAR