BEGIN:VCALENDAR
VERSION:2.0
PRODID:-//Jakobusfreunde Paderborn - ECPv6.15.20//NONSGML v1.0//EN
CALSCALE:GREGORIAN
METHOD:PUBLISH
X-WR-CALNAME:Jakobusfreunde Paderborn
X-ORIGINAL-URL:https://jakobusfreunde-paderborn.com
X-WR-CALDESC:Veranstaltungen für Jakobusfreunde Paderborn
REFRESH-INTERVAL;VALUE=DURATION:PT1H
X-Robots-Tag:noindex
X-PUBLISHED-TTL:PT1H
BEGIN:VTIMEZONE
TZID:Europe/Berlin
BEGIN:DAYLIGHT
TZOFFSETFROM:+0100
TZOFFSETTO:+0200
TZNAME:CEST
DTSTART:20220327T010000
END:DAYLIGHT
BEGIN:STANDARD
TZOFFSETFROM:+0200
TZOFFSETTO:+0100
TZNAME:CET
DTSTART:20221030T010000
END:STANDARD
BEGIN:DAYLIGHT
TZOFFSETFROM:+0100
TZOFFSETTO:+0200
TZNAME:CEST
DTSTART:20230326T010000
END:DAYLIGHT
BEGIN:STANDARD
TZOFFSETFROM:+0200
TZOFFSETTO:+0100
TZNAME:CET
DTSTART:20231029T010000
END:STANDARD
BEGIN:DAYLIGHT
TZOFFSETFROM:+0100
TZOFFSETTO:+0200
TZNAME:CEST
DTSTART:20240331T010000
END:DAYLIGHT
BEGIN:STANDARD
TZOFFSETFROM:+0200
TZOFFSETTO:+0100
TZNAME:CET
DTSTART:20241027T010000
END:STANDARD
END:VTIMEZONE
BEGIN:VEVENT
DTSTART;TZID=Europe/Berlin:20230205T060000
DTEND;TZID=Europe/Berlin:20230205T160000
DTSTAMP:20260422T175409
CREATED:20230125T194402Z
LAST-MODIFIED:20230125T194402Z
UID:28709-1675576800-1675612800@jakobusfreunde-paderborn.com
SUMMARY:Pilgerwanderung zum Sonnenaufgang
DESCRIPTION:Der Pilgerstammtisch des Freundeskreises veranstaltet am Sonntag\, dem 05.02.2023\, eine Pilgerwanderung zum Sonnenaufgang von Veldrom\, über den Aussichtsturm Velmerstot sowie Altenbeken zum Missionshaus in Neuenbeken. Im Mittelpunkt stehen kurze Impulse\, stille Momente sowie schönes Unterwegssein in angenehmer Weggemeinschaft.  \nStart ist morgens um 06:00 in Form von Fahrgemeinschaften. Nach einem gemeinsamen Abschluss bei Kaffee und Kuchen im Pilgercafe der Missions- schwestern zum Kostbaren Blut in Neuenbeken erfolgt gegen 16:00 von dort die Rückfahrt nach Paderborn.  \nDie Wegstrecke beträgt ca. 18 km. \nAlle Interessierten sind zum Mitpilgern herzlich eingeladen. Anmeldungen bitte bei Gerlinde Gaukstern unter der Tel.-Nr. 05251 40 22 758 oder unter gerlinde.gaukstern@jakobusfreunde-paderborn.com
URL:https://jakobusfreunde-paderborn.com/termin/pilgerwanderung-zum-sonnenaufgang/
CATEGORIES:Pilgerstammtisch
ORGANIZER;CN="Jakobusfreunde Paderborn":MAILTO:info@jakobusfreunde-paderborn.com
END:VEVENT
END:VCALENDAR