BEGIN:VCALENDAR
VERSION:2.0
PRODID:-//Jakobusfreunde Paderborn - ECPv6.15.20//NONSGML v1.0//EN
CALSCALE:GREGORIAN
METHOD:PUBLISH
X-ORIGINAL-URL:https://jakobusfreunde-paderborn.com
X-WR-CALDESC:Veranstaltungen für Jakobusfreunde Paderborn
REFRESH-INTERVAL;VALUE=DURATION:PT1H
X-Robots-Tag:noindex
X-PUBLISHED-TTL:PT1H
BEGIN:VTIMEZONE
TZID:Europe/Berlin
BEGIN:DAYLIGHT
TZOFFSETFROM:+0100
TZOFFSETTO:+0200
TZNAME:CEST
DTSTART:20220327T010000
END:DAYLIGHT
BEGIN:STANDARD
TZOFFSETFROM:+0200
TZOFFSETTO:+0100
TZNAME:CET
DTSTART:20221030T010000
END:STANDARD
BEGIN:DAYLIGHT
TZOFFSETFROM:+0100
TZOFFSETTO:+0200
TZNAME:CEST
DTSTART:20230326T010000
END:DAYLIGHT
BEGIN:STANDARD
TZOFFSETFROM:+0200
TZOFFSETTO:+0100
TZNAME:CET
DTSTART:20231029T010000
END:STANDARD
BEGIN:DAYLIGHT
TZOFFSETFROM:+0100
TZOFFSETTO:+0200
TZNAME:CEST
DTSTART:20240331T010000
END:DAYLIGHT
BEGIN:STANDARD
TZOFFSETFROM:+0200
TZOFFSETTO:+0100
TZNAME:CET
DTSTART:20241027T010000
END:STANDARD
END:VTIMEZONE
BEGIN:VEVENT
DTSTART;TZID=Europe/Berlin:20230203T180000
DTEND;TZID=Europe/Berlin:20230203T220000
DTSTAMP:20260422T175554
CREATED:20221202T180643Z
LAST-MODIFIED:20221202T181259Z
UID:28488-1675447200-1675461600@jakobusfreunde-paderborn.com
SUMMARY:Pilgerstammtisch Bielefeld
DESCRIPTION:Liebe Pilgerfreundinnen und Pilgerfreunde aus Bielefeld und Lippe\, \nzurückblickend war der letzte Stammtisch im November ein großer Erfolg\, insbesondere die Kombination mit dem Feierabendpilgern vom Citykloster war eine Bereicherung. Nochmal herzlichen Dank dafür an Norbert Glatthor\, auch für seinen spannenden und begeisterten Vortrag über seine Pilgerreise nach Rom. 23 Teilnehmer konnte ich begrüßen und erstmals 4 aus Lippe\, 1 aus Herford und zwei aus Warstein\, mit der weitesten Anreise. Zu den „Lippern“ habe ich viele Namen\, aber nur 9 Mailadressen. Wer noch wen aus diesem Bereich kennt\, bitte mal informieren. \nUnter den Teilnehmerinnen war auch Elke Reineke aus Bad Salzuflen. Bei der zurückliegenden Mitgliederversammlung wurde sie zur neuen Vizepräsidentin des Vereins gewählt. Dazu herzliche Glückwünsche\, wir freuen uns liebe Elke dich auch weiterhin bei unseren Treffen begrüßen zu dürfen. \nDer nächste Pilgerstammtisch kombiniert mit dem Feierabendpilgern ist bereits in Vorbereitung.  \nTermin ist Freitag 3.2.2023.\nAb 18.00 Uhr Feierabendpilgern und\nab 19.15 Pilgerstammtisch im Franziskussaal.  \nBitte den Termin vormerken!
URL:https://jakobusfreunde-paderborn.com/termin/pilgerstammtisch-bielefeld/
CATEGORIES:Pilgerstammtisch
ORGANIZER;CN="Jakobusfreunde Paderborn":MAILTO:info@jakobusfreunde-paderborn.com
END:VEVENT
END:VCALENDAR